BEGIN:VCALENDAR
VERSION:2.0
PRODID:-//Brooks Memorial Library - Brattleboro VT - ECPv6.15.17.1//NONSGML v1.0//EN
CALSCALE:GREGORIAN
METHOD:PUBLISH
X-ORIGINAL-URL:https://brookslibraryvt.org
X-WR-CALDESC:Events for Brooks Memorial Library - Brattleboro VT
REFRESH-INTERVAL;VALUE=DURATION:PT1H
X-Robots-Tag:noindex
X-PUBLISHED-TTL:PT1H
BEGIN:VTIMEZONE
TZID:America/New_York
BEGIN:DAYLIGHT
TZOFFSETFROM:-0500
TZOFFSETTO:-0400
TZNAME:EDT
DTSTART:20250309T070000
END:DAYLIGHT
BEGIN:STANDARD
TZOFFSETFROM:-0400
TZOFFSETTO:-0500
TZNAME:EST
DTSTART:20251102T060000
END:STANDARD
BEGIN:DAYLIGHT
TZOFFSETFROM:-0500
TZOFFSETTO:-0400
TZNAME:EDT
DTSTART:20260308T070000
END:DAYLIGHT
BEGIN:STANDARD
TZOFFSETFROM:-0400
TZOFFSETTO:-0500
TZNAME:EST
DTSTART:20261101T060000
END:STANDARD
BEGIN:DAYLIGHT
TZOFFSETFROM:-0500
TZOFFSETTO:-0400
TZNAME:EDT
DTSTART:20270314T070000
END:DAYLIGHT
BEGIN:STANDARD
TZOFFSETFROM:-0400
TZOFFSETTO:-0500
TZNAME:EST
DTSTART:20271107T060000
END:STANDARD
END:VTIMEZONE
BEGIN:VEVENT
DTSTART;TZID=America/New_York:20260216T100000
DTEND;TZID=America/New_York:20260216T210000
DTSTAMP:20260423T123932
CREATED:20241002T173244Z
LAST-MODIFIED:20241002T173244Z
UID:10003408-1771236000-1771275600@brookslibraryvt.org
SUMMARY:LIBRARY CLOSED
DESCRIPTION:The library will be closed in observation of Presidents’ Day.
URL:https://brookslibraryvt.org/event/library-closed-22/2026-02-16/
LOCATION:Brooks Memorial Library\, 224 Main Street\, Brattleboro\, VT\, 05301\, United States
CATEGORIES:General
ATTACH;FMTTYPE=image/png:https://eadn-wc04-3360218.nxedge.io/wp-content/uploads/2023/11/Library-Closed.png
ORGANIZER;CN="Brooks Memorial Library":MAILTO:outreach@brookslibraryvt.org
GEO:42.8553213;-72.5599024
X-APPLE-STRUCTURED-LOCATION;VALUE=URI;X-ADDRESS=Brooks Memorial Library 224 Main Street Brattleboro VT 05301 United States;X-APPLE-RADIUS=500;X-TITLE=224 Main Street:geo:-72.5599024,42.8553213
END:VEVENT
BEGIN:VEVENT
DTSTART;TZID=America/New_York:20260217T133000
DTEND;TZID=America/New_York:20260217T150000
DTSTAMP:20260423T123932
CREATED:20260128T183537Z
LAST-MODIFIED:20260129T212600Z
UID:10005254-1771335000-1771340400@brookslibraryvt.org
SUMMARY:Art & Exploration at the Library
DESCRIPTION:We are pleased to offer the second iteration of this free 6-week book exploration and art-making course for learners ages 60+\, after last year’s successful pilot-program with River Gallery School teaching artist\, Kate Milliken. \nParticipants will have the opportunity to explore books on a variety of themes including history\, food\, nature\, music\, film\, and classic novels\, and create art in response to those themes through mixed media techniques. \nThis course is perfect for participants new to creating art and interested in a social book club experience. Supplies are provided. Registration is required.  Sign up for one or all sessions in this exciting offering\, in collaboration with River Gallery School and Bradley House. \nTo register: stop by or call the circulation desk (802)254-5290; or\, email: outreach@brookslibraryvt.org.
URL:https://brookslibraryvt.org/event/art-exploration-at-the-library/2026-02-17/
LOCATION:Meeting Room A – Community Meeting Room\, 224 Main Street\, Brattleboro\, VT\, 05301\, United States
CATEGORIES:Adults,General
ATTACH;FMTTYPE=image/png:https://eadn-wc04-3360218.nxedge.io/wp-content/uploads/2026/01/AE2.33.10.png
GEO:42.8553213;-72.5599024
X-APPLE-STRUCTURED-LOCATION;VALUE=URI;X-ADDRESS=Meeting Room A – Community Meeting Room 224 Main Street Brattleboro VT 05301 United States;X-APPLE-RADIUS=500;X-TITLE=224 Main Street:geo:-72.5599024,42.8553213
END:VEVENT
BEGIN:VEVENT
DTSTART;TZID=America/New_York:20260217T153000
DTEND;TZID=America/New_York:20260217T163000
DTSTAMP:20260423T123932
CREATED:20260106T202929Z
LAST-MODIFIED:20260225T192716Z
UID:10005445-1771342200-1771345800@brookslibraryvt.org
SUMMARY:Read to a Dog
DESCRIPTION:Come start a new year of reading by reading to a dog! Read out loud to two sweet dogs\, Kelso and Gussy! Both dogs are  specially trained to read with kids and LOVE to be petted and cuddled! \nCome to the Children’s Room to Read to a Dog–available on a first come first serve basis. Bring your own books or come early to pick some of ours! All Ages Welcome.
URL:https://brookslibraryvt.org/event/read-to-a-dog-3-2/2026-02-17/
LOCATION:Meeting Room A – Community Meeting Room\, 224 Main Street\, Brattleboro\, VT\, 05301\, United States
CATEGORIES:Children & Families,General
ATTACH;FMTTYPE=image/png:https://eadn-wc04-3360218.nxedge.io/wp-content/uploads/2021/07/Read-to-a-Dog.png
ORGANIZER;CN="BML Children's Room":MAILTO:cr@brookslibraryvt.org
GEO:42.8553213;-72.5599024
X-APPLE-STRUCTURED-LOCATION;VALUE=URI;X-ADDRESS=Meeting Room A – Community Meeting Room 224 Main Street Brattleboro VT 05301 United States;X-APPLE-RADIUS=500;X-TITLE=224 Main Street:geo:-72.5599024,42.8553213
END:VEVENT
BEGIN:VEVENT
DTSTART;TZID=America/New_York:20260217T183000
DTEND;TZID=America/New_York:20260217T200000
DTSTAMP:20260423T123932
CREATED:20260122T194436Z
LAST-MODIFIED:20260126T230641Z
UID:10005240-1771353000-1771358400@brookslibraryvt.org
SUMMARY:Building the Beloved Community
DESCRIPTION:Building the Beloved Community: Martin Luther King Jr. had a vision of a global society based on justice\, equity\, love\, and peace\, where all individuals are cared for and have a sense of belonging. It is a community free from poverty\, hunger\, and all forms of discrimination and prejudice\, and is achieved through nonviolent social change and a shared commitment to the common good. Join local story weaver\, Djeli\, in breathing new life into the Beloved Community. The presentation will combine storytelling with community discussion to create the building blocks for the Beloved Community.
URL:https://brookslibraryvt.org/event/building-the-beloved-community/
LOCATION:Main Reading Room
CATEGORIES:Adults,General
ATTACH;FMTTYPE=application/pdf:https://eadn-wc04-3360218.nxedge.io/wp-content/uploads/2026/01/Building-the-Beloved-Promo.pdf
GEO:42.8553213;-72.5599024
END:VEVENT
BEGIN:VEVENT
DTSTART;TZID=America/New_York:20260217T190000
DTEND;TZID=America/New_York:20260217T210000
DTSTAMP:20260423T123932
CREATED:20251204T190033Z
LAST-MODIFIED:20251231T161721Z
UID:10004770-1771354800-1771362000@brookslibraryvt.org
SUMMARY:SEVT Audubon Society
DESCRIPTION:Join South Eastern Vermont’s Audubon Society for a monthly program featuring nature and the environment.
URL:https://brookslibraryvt.org/event/sevt-audubon-society-3/2026-02-17/
LOCATION:Meeting Room A – Community Meeting Room\, 224 Main Street\, Brattleboro\, VT\, 05301\, United States
CATEGORIES:General
ATTACH;FMTTYPE=image/jpeg:https://eadn-wc04-3360218.nxedge.io/wp-content/uploads/2023/01/birds.jpg
ORGANIZER;CN="Hollie Bowen":MAILTO:HSB@sover.net
GEO:42.8553213;-72.5599024
X-APPLE-STRUCTURED-LOCATION;VALUE=URI;X-ADDRESS=Meeting Room A – Community Meeting Room 224 Main Street Brattleboro VT 05301 United States;X-APPLE-RADIUS=500;X-TITLE=224 Main Street:geo:-72.5599024,42.8553213
END:VEVENT
BEGIN:VEVENT
DTSTART;TZID=America/New_York:20260218T163000
DTEND;TZID=America/New_York:20260218T180000
DTSTAMP:20260423T123932
CREATED:20251204T202935Z
LAST-MODIFIED:20260124T175518Z
UID:10004795-1771432200-1771437600@brookslibraryvt.org
SUMMARY:Friends of the Library
DESCRIPTION:Monthly meeting of the Friends of the Library. Community attendance and commentary is welcome! \nFriends of the Library
URL:https://brookslibraryvt.org/event/friends-of-the-library-4/2026-02-18/
LOCATION:Meeting Room A – Community Meeting Room\, 224 Main Street\, Brattleboro\, VT\, 05301\, United States
CATEGORIES:General
ATTACH;FMTTYPE=image/png:https://eadn-wc04-3360218.nxedge.io/wp-content/uploads/2026/01/Friends-logo-3-2ratio.png
GEO:42.8553213;-72.5599024
X-APPLE-STRUCTURED-LOCATION;VALUE=URI;X-ADDRESS=Meeting Room A – Community Meeting Room 224 Main Street Brattleboro VT 05301 United States;X-APPLE-RADIUS=500;X-TITLE=224 Main Street:geo:-72.5599024,42.8553213
END:VEVENT
BEGIN:VEVENT
DTSTART;TZID=America/New_York:20260218T180000
DTEND;TZID=America/New_York:20260218T204500
DTSTAMP:20260423T123932
CREATED:20251210T213214Z
LAST-MODIFIED:20251210T213956Z
UID:10005008-1771437600-1771447500@brookslibraryvt.org
SUMMARY:Game Cafe!
DESCRIPTION:Come join game enthusiasts in playing Magic the Gathering in various formats (including Commander/EDH) as well as other fun and creative board & card games. \nBring your favorite games- All Ages Welcome!
URL:https://brookslibraryvt.org/event/game-cafe-6/2026-02-18/
LOCATION:Meeting Room D – Quiet Reading Room\, 224 Main Street\, Brattleboro\, VT\, 05301\, United States
CATEGORIES:Children & Families,General,Teens
ATTACH;FMTTYPE=image/webp:https://eadn-wc04-3360218.nxedge.io/wp-content/uploads/2022/07/pic163749.webp
GEO:42.8553213;-72.5599024
X-APPLE-STRUCTURED-LOCATION;VALUE=URI;X-ADDRESS=Meeting Room D – Quiet Reading Room 224 Main Street Brattleboro VT 05301 United States;X-APPLE-RADIUS=500;X-TITLE=224 Main Street:geo:-72.5599024,42.8553213
END:VEVENT
BEGIN:VEVENT
DTSTART;TZID=America/New_York:20260219T103000
DTEND;TZID=America/New_York:20260219T113000
DTSTAMP:20260423T123932
CREATED:20251222T184937Z
LAST-MODIFIED:20260225T182234Z
UID:10005065-1771497000-1771500600@brookslibraryvt.org
SUMMARY:POSTPONED-Sing & Dance With Robin
DESCRIPTION:Sing & Dance With Robin is POSTPONED until further notice.
URL:https://brookslibraryvt.org/event/sing-dance-with-robin-7-5/2026-02-19/
LOCATION:Meeting Room A – Community Meeting Room\, 224 Main Street\, Brattleboro\, VT\, 05301\, United States
CATEGORIES:Children & Families
ATTACH;FMTTYPE=image/png:https://eadn-wc04-3360218.nxedge.io/wp-content/uploads/2025/12/Copy-of-Copy-of-Sing-Dance-with-Robin.png
ORGANIZER;CN="BML Children's Room":MAILTO:cr@brookslibraryvt.org
GEO:42.8553213;-72.5599024
X-APPLE-STRUCTURED-LOCATION;VALUE=URI;X-ADDRESS=Meeting Room A – Community Meeting Room 224 Main Street Brattleboro VT 05301 United States;X-APPLE-RADIUS=500;X-TITLE=224 Main Street:geo:-72.5599024,42.8553213
END:VEVENT
BEGIN:VEVENT
DTSTART;TZID=America/New_York:20260219T150000
DTEND;TZID=America/New_York:20260219T170000
DTSTAMP:20260423T123932
CREATED:20251015T155243Z
LAST-MODIFIED:20260225T182424Z
UID:10004598-1771513200-1771520400@brookslibraryvt.org
SUMMARY:LEGO-Palooza Winter Session!
DESCRIPTION:Join us on Thursdays after school from 3-5pm to play with LEGOs! \nWe provide the LEGOs. You build. Do not bring your own LEGOs. \nChildren cannot keep LEGOs\, but if there is enough room\, we will display them in the window. \nFree and open to the public!
URL:https://brookslibraryvt.org/event/lego-palooza-winter-session-2/2026-02-19/
LOCATION:Meeting Room A – Community Meeting Room\, 224 Main Street\, Brattleboro\, VT\, 05301\, United States
CATEGORIES:Children & Families,General,Teens
ATTACH;FMTTYPE=image/png:https://eadn-wc04-3360218.nxedge.io/wp-content/uploads/2025/10/LEGO-palooza-Winter-Session-1536x864-1.png
ORGANIZER;CN="BML Children's Room":MAILTO:cr@brookslibraryvt.org
GEO:42.8553213;-72.5599024
X-APPLE-STRUCTURED-LOCATION;VALUE=URI;X-ADDRESS=Meeting Room A – Community Meeting Room 224 Main Street Brattleboro VT 05301 United States;X-APPLE-RADIUS=500;X-TITLE=224 Main Street:geo:-72.5599024,42.8553213
END:VEVENT
BEGIN:VEVENT
DTSTART;TZID=America/New_York:20260221T103000
DTEND;TZID=America/New_York:20260221T113000
DTSTAMP:20260423T123932
CREATED:20260212T193049Z
LAST-MODIFIED:20260212T193049Z
UID:10005348-1771669800-1771673400@brookslibraryvt.org
SUMMARY:Anansi Tales with Djeli
DESCRIPTION: “Anansi Tales” stories of Anansi the spider for young audiences. The 1 hour program is designed for elementary schoolers (and caregivers). Anansi Tales is presented in a traditional oral storytelling style\, The presentation includes a fun Anansi inspired craft\, children will get instructions and guidance to craft Anansi using pipe cleaners.
URL:https://brookslibraryvt.org/event/anansi-tales-with-djeli/
LOCATION:Meeting Room A – Community Meeting Room\, 224 Main Street\, Brattleboro\, VT\, 05301\, United States
CATEGORIES:Children & Families,General
ATTACH;FMTTYPE=image/png:https://eadn-wc04-3360218.nxedge.io/wp-content/uploads/2026/02/Anansi-Tales.png
GEO:42.8553213;-72.5599024
X-APPLE-STRUCTURED-LOCATION;VALUE=URI;X-ADDRESS=Meeting Room A – Community Meeting Room 224 Main Street Brattleboro VT 05301 United States;X-APPLE-RADIUS=500;X-TITLE=224 Main Street:geo:-72.5599024,42.8553213
END:VEVENT
BEGIN:VEVENT
DTSTART;TZID=America/New_York:20260221T130000
DTEND;TZID=America/New_York:20260221T150000
DTSTAMP:20260423T123932
CREATED:20260220T195721Z
LAST-MODIFIED:20260220T200357Z
UID:10005351-1771678800-1771686000@brookslibraryvt.org
SUMMARY:Open District 8 Discussion
DESCRIPTION:Due to inclement weather\, rescheduled to Saturday\, February 28 from 2:00 – 4:00 PM in Room D\, Quiet Reading Room   \nDistrict 8* Meeting Gathering \nAll Brattleboro residents of District 8 * are welcome and invited to meet for this gathering \nSaturday\, February 21st\, from 1:00 pm to 3:00 pm in the Quiet Reading Room (Room D) on the mezzanine at Brooks Memorial Library. \nThere is so much going on …. \nOn March 3: \n– Town Meeting Day elections (Selectboard\, RTM members\, and other officers and WSESD School Board) – see sample ballots here: https://brattleboro.gov/sample-ballots \n– Should Brattleboro discontinue Representative Town Meeting and\, if so\, replace it with an Australian ballot or Open Town Meeting? \nAnd then\, there is the Town Budget & Human Services funding to be decided at a Town Meeting (if the Australian ballot question passes\, it cannot go into operation until the Legislature gives its approval) \n…. We likely will not be able to discuss everything; however\, this may be a good meeting to find pointers for homework before we need to make those decisions. \nWe will have keynote speakers discussing: \n1. Nell Mayo- Finance Committee-( Selectboard runner for 1-year seat ) \n2. Isaac Evans-Frantz- ( Current Selectboard Member)-runner for 1-year seat ) \n3. David Miner- Human Services Committee \n4. Gemma Seymour – current RTM District 8 Representative \nQuick information and Resources: \nhttps://brattleboro.gov/representative-town-meeting \nhttps://brattleboro.gov/budgets \nhttps://brattleboro.gov/voting-districts
URL:https://brookslibraryvt.org/event/open-district-8-discussion/
LOCATION:Meeting Room D – Quiet Reading Room\, 224 Main Street\, Brattleboro\, VT\, 05301\, United States
CATEGORIES:Adults,General
GEO:42.8553213;-72.5599024
X-APPLE-STRUCTURED-LOCATION;VALUE=URI;X-ADDRESS=Meeting Room D – Quiet Reading Room 224 Main Street Brattleboro VT 05301 United States;X-APPLE-RADIUS=500;X-TITLE=224 Main Street:geo:-72.5599024,42.8553213
END:VEVENT
BEGIN:VEVENT
DTSTART;TZID=America/New_York:20260221T130000
DTEND;TZID=America/New_York:20260221T160000
DTSTAMP:20260423T123932
CREATED:20250103T195250Z
LAST-MODIFIED:20251204T220811Z
UID:10004922-1771678800-1771689600@brookslibraryvt.org
SUMMARY:Brattleboro in Stitches
DESCRIPTION:Bring a work in progress to sew\, knit\, crochet\, embroider\, or mend. Sewing machines\, irons\, and companionship will be provided.
URL:https://brookslibraryvt.org/event/brattleboro-in-stitches-6/2026-02-21/
LOCATION:Meeting Room A – Community Meeting Room\, 224 Main Street\, Brattleboro\, VT\, 05301\, United States
CATEGORIES:Adults,Children & Families,General
ATTACH;FMTTYPE=image/png:https://eadn-wc04-3360218.nxedge.io/wp-content/uploads/2023/03/Brattleboro-in-Stitches-Event-Calendar2.png
ORGANIZER;CN="Brooks Memorial Library":MAILTO:outreach@brookslibraryvt.org
GEO:42.8553213;-72.5599024
X-APPLE-STRUCTURED-LOCATION;VALUE=URI;X-ADDRESS=Meeting Room A – Community Meeting Room 224 Main Street Brattleboro VT 05301 United States;X-APPLE-RADIUS=500;X-TITLE=224 Main Street:geo:-72.5599024,42.8553213
END:VEVENT
END:VCALENDAR