BEGIN:VCALENDAR
VERSION:2.0
PRODID:-//Brooks Memorial Library - Brattleboro VT - ECPv6.15.17.1//NONSGML v1.0//EN
CALSCALE:GREGORIAN
METHOD:PUBLISH
X-ORIGINAL-URL:https://brookslibraryvt.org
X-WR-CALDESC:Events for Brooks Memorial Library - Brattleboro VT
REFRESH-INTERVAL;VALUE=DURATION:PT1H
X-Robots-Tag:noindex
X-PUBLISHED-TTL:PT1H
BEGIN:VTIMEZONE
TZID:America/New_York
BEGIN:DAYLIGHT
TZOFFSETFROM:-0500
TZOFFSETTO:-0400
TZNAME:EDT
DTSTART:20250309T070000
END:DAYLIGHT
BEGIN:STANDARD
TZOFFSETFROM:-0400
TZOFFSETTO:-0500
TZNAME:EST
DTSTART:20251102T060000
END:STANDARD
BEGIN:DAYLIGHT
TZOFFSETFROM:-0500
TZOFFSETTO:-0400
TZNAME:EDT
DTSTART:20260308T070000
END:DAYLIGHT
BEGIN:STANDARD
TZOFFSETFROM:-0400
TZOFFSETTO:-0500
TZNAME:EST
DTSTART:20261101T060000
END:STANDARD
BEGIN:DAYLIGHT
TZOFFSETFROM:-0500
TZOFFSETTO:-0400
TZNAME:EDT
DTSTART:20270314T070000
END:DAYLIGHT
BEGIN:STANDARD
TZOFFSETFROM:-0400
TZOFFSETTO:-0500
TZNAME:EST
DTSTART:20271107T060000
END:STANDARD
END:VTIMEZONE
BEGIN:VEVENT
DTSTART;TZID=America/New_York:20260504T153000
DTEND;TZID=America/New_York:20260504T163000
DTSTAMP:20260423T090336
CREATED:20260124T175422Z
LAST-MODIFIED:20260420T193101Z
UID:10005648-1777908600-1777912200@brookslibraryvt.org
SUMMARY:BookMarked: A Book Party for Children and Tweens!
DESCRIPTION:Join us on the first Monday of the month\, 4-5 pm in the Community Meeting Room for a book lover’s party! This is a chance to meet other kids who love to read (you can bring your old friends too!) and  swap recommendations in a zero-pressure environment. We will have craft supplies out for open-ended art making. Snacks will also be provided.\nThis event is for children ages 8+. Registration is NOT required.
URL:https://brookslibraryvt.org/event/bookmarked-a-book-party-for-children-and-tweens/2026-05-04/
LOCATION:Meeting Room A – Community Meeting Room\, 224 Main Street\, Brattleboro\, VT\, 05301\, United States
CATEGORIES:Children & Families
ATTACH;FMTTYPE=image/png:https://eadn-wc04-3360218.nxedge.io/wp-content/uploads/2025/12/Copy-of-Bookmarked-Facebook-Post.png
ORGANIZER;CN="BML Children's Room":MAILTO:cr@brookslibraryvt.org
GEO:42.8553213;-72.5599024
X-APPLE-STRUCTURED-LOCATION;VALUE=URI;X-ADDRESS=Meeting Room A – Community Meeting Room 224 Main Street Brattleboro VT 05301 United States;X-APPLE-RADIUS=500;X-TITLE=224 Main Street:geo:-72.5599024,42.8553213
END:VEVENT
BEGIN:VEVENT
DTSTART;TZID=America/New_York:20260504T180000
DTEND;TZID=America/New_York:20260504T200000
DTSTAMP:20260423T090336
CREATED:20260221T173042Z
LAST-MODIFIED:20260221T214632Z
UID:10005357-1777917600-1777924800@brookslibraryvt.org
SUMMARY:Windham County Democratic Committee
DESCRIPTION:Monthly Meeting of the Windham County Democratic Committee
URL:https://brookslibraryvt.org/event/windham-county-democratic-committee/2026-05-04/
LOCATION:Meeting Room A – Community Meeting Room\, 224 Main Street\, Brattleboro\, VT\, 05301\, United States
CATEGORIES:Adults,General
ATTACH;FMTTYPE=image/png:https://eadn-wc04-3360218.nxedge.io/wp-content/uploads/2026/02/Windham-County-Democratic-Committee-1.png
ORGANIZER;CN="Windham County Democratic Committee":MAILTO:sbrowneng.vt@gmail.com
GEO:42.8553213;-72.5599024
X-APPLE-STRUCTURED-LOCATION;VALUE=URI;X-ADDRESS=Meeting Room A – Community Meeting Room 224 Main Street Brattleboro VT 05301 United States;X-APPLE-RADIUS=500;X-TITLE=224 Main Street:geo:-72.5599024,42.8553213
END:VEVENT
BEGIN:VEVENT
DTSTART;TZID=America/New_York:20260504T190000
DTEND;TZID=America/New_York:20260504T210000
DTSTAMP:20260423T090336
CREATED:20251210T195740Z
LAST-MODIFIED:20251210T195740Z
UID:10004978-1777921200-1777928400@brookslibraryvt.org
SUMMARY:Brattleboro Great Books Group
DESCRIPTION:Monthly discussion of “Great Books”
URL:https://brookslibraryvt.org/event/brattleboro-great-books-group-4/2026-05-04/
LOCATION:Meeting Room D – Quiet Reading Room\, 224 Main Street\, Brattleboro\, VT\, 05301\, United States
CATEGORIES:General,Teens
ATTACH;FMTTYPE=image/jpeg:https://eadn-wc04-3360218.nxedge.io/wp-content/uploads/2022/10/books.jpg
ORGANIZER;CN="Great Books - Michael Landis":MAILTO:emagicmtman@gmail.com
GEO:42.8553213;-72.5599024
X-APPLE-STRUCTURED-LOCATION;VALUE=URI;X-ADDRESS=Meeting Room D – Quiet Reading Room 224 Main Street Brattleboro VT 05301 United States;X-APPLE-RADIUS=500;X-TITLE=224 Main Street:geo:-72.5599024,42.8553213
END:VEVENT
BEGIN:VEVENT
DTSTART;TZID=America/New_York:20260505T133000
DTEND;TZID=America/New_York:20260505T150000
DTSTAMP:20260423T090336
CREATED:20260324T172116Z
LAST-MODIFIED:20260324T173356Z
UID:10005490-1777987800-1777993200@brookslibraryvt.org
SUMMARY:Art & Exploration at the Library - Creating Cyanotype Art
DESCRIPTION:Join teaching artist\, Evie Lovett\, for this free 6-week book exploration and art-making course for learners ages 60+. Participants will have the opportunity to explore books on a variety of themes and create cyanotype art in response to those themes. Cyanotype is a process of making photographs with the sun or UV light. This course is perfect for participants new to creating art and interested in a social book club experience. Supplies provided. Registration is required; stop by or call the Circulation Desk at (802) 254-5290.  Or\, you can email: outreach@brookslibraryvt.org
URL:https://brookslibraryvt.org/event/art-exploration-at-the-library-creating-cyanotype-art/2026-05-05/
LOCATION:Meeting Room A – Community Meeting Room\, 224 Main Street\, Brattleboro\, VT\, 05301\, United States
CATEGORIES:Adults,General
ATTACH;FMTTYPE=image/png:https://eadn-wc04-3360218.nxedge.io/wp-content/uploads/2026/03/Copy-of-Copy-of-Colorful-Playful-Illustrative-Book-Fair-Invitation-Flyer-Facebook-Post-1.png
GEO:42.8553213;-72.5599024
X-APPLE-STRUCTURED-LOCATION;VALUE=URI;X-ADDRESS=Meeting Room A – Community Meeting Room 224 Main Street Brattleboro VT 05301 United States;X-APPLE-RADIUS=500;X-TITLE=224 Main Street:geo:-72.5599024,42.8553213
END:VEVENT
BEGIN:VEVENT
DTSTART;TZID=America/New_York:20260505T180000
DTEND;TZID=America/New_York:20260505T204500
DTSTAMP:20260423T090336
CREATED:20251204T183229Z
LAST-MODIFIED:20251204T183229Z
UID:10004737-1778004000-1778013900@brookslibraryvt.org
SUMMARY:Mineralogical Society
DESCRIPTION:Join the Brattleboro Mineralogical Society to discuss Minerals and other Geological topics!
URL:https://brookslibraryvt.org/event/mineralogical-society-5/2026-05-05/
LOCATION:Meeting Room A – Community Meeting Room\, 224 Main Street\, Brattleboro\, VT\, 05301\, United States
CATEGORIES:Adults,General
ATTACH;FMTTYPE=image/png:https://eadn-wc04-3360218.nxedge.io/wp-content/uploads/2021/12/MineralogicalSociety.png
ORGANIZER;CN="Robert Clements - Mineralogical Society":MAILTO:rwc2esj@comcast.net
GEO:42.8553213;-72.5599024
X-APPLE-STRUCTURED-LOCATION;VALUE=URI;X-ADDRESS=Meeting Room A – Community Meeting Room 224 Main Street Brattleboro VT 05301 United States;X-APPLE-RADIUS=500;X-TITLE=224 Main Street:geo:-72.5599024,42.8553213
END:VEVENT
BEGIN:VEVENT
DTSTART;TZID=America/New_York:20260506T103000
DTEND;TZID=America/New_York:20260506T110000
DTSTAMP:20260423T090336
CREATED:20251107T161857Z
LAST-MODIFIED:20251107T161857Z
UID:10004646-1778063400-1778065200@brookslibraryvt.org
SUMMARY:Rhyme Time
DESCRIPTION:Join us on Wednesday mornings @ 10:30 am for 30 minutes of stories\, songs\, and fun! \nRhyme Time is for kids 5 & under and their caregivers. \nFree and open to the public.
URL:https://brookslibraryvt.org/event/rhyme-time-9/2026-05-06/
LOCATION:Meeting Room A – Community Meeting Room\, 224 Main Street\, Brattleboro\, VT\, 05301\, United States
CATEGORIES:Children & Families
ATTACH;FMTTYPE=image/png:https://eadn-wc04-3360218.nxedge.io/wp-content/uploads/2024/01/New-2-CLJ.png
ORGANIZER;CN="BML Children's Room":MAILTO:cr@brookslibraryvt.org
GEO:42.8553213;-72.5599024
X-APPLE-STRUCTURED-LOCATION;VALUE=URI;X-ADDRESS=Meeting Room A – Community Meeting Room 224 Main Street Brattleboro VT 05301 United States;X-APPLE-RADIUS=500;X-TITLE=224 Main Street:geo:-72.5599024,42.8553213
END:VEVENT
BEGIN:VEVENT
DTSTART;TZID=America/New_York:20260506T153000
DTEND;TZID=America/New_York:20260506T170000
DTSTAMP:20260423T090336
CREATED:20251209T165606Z
LAST-MODIFIED:20260404T174735Z
UID:10005602-1778081400-1778086800@brookslibraryvt.org
SUMMARY:Vermont Pastel Society
DESCRIPTION:pastel painting
URL:https://brookslibraryvt.org/event/vermont-pastel-society-3/2026-05-06/
LOCATION:Meeting Room A – Community Meeting Room\, 224 Main Street\, Brattleboro\, VT\, 05301\, United States
CATEGORIES:Adults,General
ATTACH;FMTTYPE=image/jpeg:https://eadn-wc04-3360218.nxedge.io/wp-content/uploads/2025/09/cropped-Vermont-Pastel-Society-Banner-2.jpg
ORGANIZER;CN="Vermont Pastel Society":MAILTO:mjpeakeART@gmail.com
GEO:42.8553213;-72.5599024
X-APPLE-STRUCTURED-LOCATION;VALUE=URI;X-ADDRESS=Meeting Room A – Community Meeting Room 224 Main Street Brattleboro VT 05301 United States;X-APPLE-RADIUS=500;X-TITLE=224 Main Street:geo:-72.5599024,42.8553213
END:VEVENT
BEGIN:VEVENT
DTSTART;TZID=America/New_York:20260506T180000
DTEND;TZID=America/New_York:20260506T200000
DTSTAMP:20260423T090336
CREATED:20251014T220933Z
LAST-MODIFIED:20251014T220933Z
UID:10004589-1778090400-1778097600@brookslibraryvt.org
SUMMARY:A Lifeline for Difficult Times:  The Taking Solace Series
DESCRIPTION:Starting this November\, Center for Solace (formerly Brattleboro Area Hospice) & Brooks Memorial Library\nare inspired to begin an 8-month collaboration on the first Wednesday of each month\, from 6-8 pm. \nCome join us for a wide range of conversations\non tender topics\, from Death Cafes\, to film & discussion nights\,\nspeaker panels\, a climate-grief dialogue\, and more. \nTogether we’ll explore some of the challenges of being alive in our time.\nFor instance\, how might we navigate illness\, caregiving\, or loss?\nOr beyond that\, face a much broader anguish for our fragile planet itself?\nBecause we know that at least one form of solace\nstems from staying connected. \nTo quote poet David Whyte\, “Solace is not meant to be\nan answer\, but an invitation\, through the door of pain and difficulty\,\nto the depth of suffering and simultaneous beauty in the world\nthat the strategic mind by itself cannot grasp or make sense of.”   \nWe begin November 5th from 6-8pm\nwith a Death Cafe in the Community Room. \nAnd to find out about further topics\, please follow\nCenter for Solace or Brooks Memorial Library on Facebook:\ncenterforsolace.org\, or brookslibraryvt.org.
URL:https://brookslibraryvt.org/event/a-lifeline-for-difficult-times-the-taking-solace-series/2026-05-06/
LOCATION:Meeting Room A – Community Meeting Room\, 224 Main Street\, Brattleboro\, VT\, 05301\, United States
CATEGORIES:Adults,General
ATTACH;FMTTYPE=image/png:https://eadn-wc04-3360218.nxedge.io/wp-content/uploads/2025/09/logo-wide-2-scaled.png
ORGANIZER;CN="Center for Solace":MAILTO:info@cfsolace.org
GEO:42.8553213;-72.5599024
X-APPLE-STRUCTURED-LOCATION;VALUE=URI;X-ADDRESS=Meeting Room A – Community Meeting Room 224 Main Street Brattleboro VT 05301 United States;X-APPLE-RADIUS=500;X-TITLE=224 Main Street:geo:-72.5599024,42.8553213
END:VEVENT
BEGIN:VEVENT
DTSTART;TZID=America/New_York:20260506T180000
DTEND;TZID=America/New_York:20260506T204500
DTSTAMP:20260423T090336
CREATED:20251210T213214Z
LAST-MODIFIED:20251210T213956Z
UID:10005019-1778090400-1778100300@brookslibraryvt.org
SUMMARY:Game Cafe!
DESCRIPTION:Come join game enthusiasts in playing Magic the Gathering in various formats (including Commander/EDH) as well as other fun and creative board & card games. \nBring your favorite games- All Ages Welcome!
URL:https://brookslibraryvt.org/event/game-cafe-6/2026-05-06/
LOCATION:Meeting Room D – Quiet Reading Room\, 224 Main Street\, Brattleboro\, VT\, 05301\, United States
CATEGORIES:Children & Families,General,Teens
ATTACH;FMTTYPE=image/webp:https://eadn-wc04-3360218.nxedge.io/wp-content/uploads/2022/07/pic163749.webp
GEO:42.8553213;-72.5599024
X-APPLE-STRUCTURED-LOCATION;VALUE=URI;X-ADDRESS=Meeting Room D – Quiet Reading Room 224 Main Street Brattleboro VT 05301 United States;X-APPLE-RADIUS=500;X-TITLE=224 Main Street:geo:-72.5599024,42.8553213
END:VEVENT
BEGIN:VEVENT
DTSTART;TZID=America/New_York:20260507T103000
DTEND;TZID=America/New_York:20260507T113000
DTSTAMP:20260423T090336
CREATED:20251231T175539Z
LAST-MODIFIED:20260330T153406Z
UID:10005145-1778149800-1778153400@brookslibraryvt.org
SUMMARY:Sing & Dance With Robin
DESCRIPTION:Designed for ages under 6- all ages welcome! Free and open to the public. \nThis lovely class is an enriching musical experience for toddlers and preschoolers\, designed to support healthy cognitive\, physical\, and social development. Children will sing\, clap\, stomp\, dance\, and play along with the curriculum of traditional and modern folk songs. Parents will be encouraged to fully sing and participate with their child in the class. \nSponsored by the Friends of Brooks Memorial Library.
URL:https://brookslibraryvt.org/event/sing-dance-with-robin-10/2026-05-07/
LOCATION:Meeting Room A – Community Meeting Room\, 224 Main Street\, Brattleboro\, VT\, 05301\, United States
CATEGORIES:Children & Families
ATTACH;FMTTYPE=image/png:https://eadn-wc04-3360218.nxedge.io/wp-content/uploads/2025/12/SPRING.png
ORGANIZER;CN="BML Children's Room":MAILTO:cr@brookslibraryvt.org
GEO:42.8553213;-72.5599024
X-APPLE-STRUCTURED-LOCATION;VALUE=URI;X-ADDRESS=Meeting Room A – Community Meeting Room 224 Main Street Brattleboro VT 05301 United States;X-APPLE-RADIUS=500;X-TITLE=224 Main Street:geo:-72.5599024,42.8553213
END:VEVENT
BEGIN:VEVENT
DTSTART;TZID=America/New_York:20260507T150000
DTEND;TZID=America/New_York:20260507T170000
DTSTAMP:20260423T090336
CREATED:20251117T175248Z
LAST-MODIFIED:20260116T191539Z
UID:10004684-1778166000-1778173200@brookslibraryvt.org
SUMMARY:LEGO-Palooza
DESCRIPTION:Join us on the first Thursday of every month after school from 3-5pm to play with LEGOs! \nWe provide the LEGOs. You build. Do not bring your own LEGOs. \nChildren cannot keep LEGOs\, but if there is enough room\, we will display them in the window. \nFree and open to the public!
URL:https://brookslibraryvt.org/event/lego-palooza-5/2026-05-07/
LOCATION:Meeting Room A – Community Meeting Room\, 224 Main Street\, Brattleboro\, VT\, 05301\, United States
CATEGORIES:Children & Families,General
ATTACH;FMTTYPE=image/png:https://eadn-wc04-3360218.nxedge.io/wp-content/uploads/2023/01/LEGO-palooza.png
ORGANIZER;CN="BML Children's Room":MAILTO:cr@brookslibraryvt.org
GEO:42.8553213;-72.5599024
X-APPLE-STRUCTURED-LOCATION;VALUE=URI;X-ADDRESS=Meeting Room A – Community Meeting Room 224 Main Street Brattleboro VT 05301 United States;X-APPLE-RADIUS=500;X-TITLE=224 Main Street:geo:-72.5599024,42.8553213
END:VEVENT
BEGIN:VEVENT
DTSTART;TZID=America/New_York:20260509T110000
DTEND;TZID=America/New_York:20260509T120000
DTSTAMP:20260423T090336
CREATED:20251210T203822Z
LAST-MODIFIED:20251210T204310Z
UID:10004995-1778324400-1778328000@brookslibraryvt.org
SUMMARY:SilverCircus - by NECCA
DESCRIPTION:Strengthen balance and build social connection\, all while playing and connecting to your inner child with SilverCircus by the New England Center for Circus Arts (NECCA). These circus classes are designed for older adults and are welcome to all mobility and cognitive levels. We will work with each student where they are at\, while fostering a supportive and playful group dynamic. Activities will challenge the brain and the body\, and will be scaled up and down to be the perfect challenge for each participant.\nIt is not too late to join the circus! Join us at Brattleboro Memorial Library at 11am on the 2nd and 4th Saturdays in January through May (01/10\, 01/24\, 02/14\, 02/28\, 03/14\, 03/28\, 04/11\, 04/25\, 05/09\, and 05/23).
URL:https://brookslibraryvt.org/event/silvercircus-by-necca-2/2026-05-09/
LOCATION:Meeting Room A – Community Meeting Room\, 224 Main Street\, Brattleboro\, VT\, 05301\, United States
CATEGORIES:Adults,General
ATTACH;FMTTYPE=image/png:https://eadn-wc04-3360218.nxedge.io/wp-content/uploads/2025/12/Copy-of-Copy-of-SilverCircus-Changes-Event-Flyer-Template-1-LinkedIn-Post-1.png
ORGANIZER;CN="NECCA":MAILTO:info@necenterforcircusarts.org
GEO:42.8553213;-72.5599024
X-APPLE-STRUCTURED-LOCATION;VALUE=URI;X-ADDRESS=Meeting Room A – Community Meeting Room 224 Main Street Brattleboro VT 05301 United States;X-APPLE-RADIUS=500;X-TITLE=224 Main Street:geo:-72.5599024,42.8553213
END:VEVENT
BEGIN:VEVENT
DTSTART;TZID=America/New_York:20260509T130000
DTEND;TZID=America/New_York:20260509T140000
DTSTAMP:20260423T090336
CREATED:20260402T160132Z
LAST-MODIFIED:20260403T203456Z
UID:10005538-1778331600-1778335200@brookslibraryvt.org
SUMMARY:Native Plants
DESCRIPTION:Adding native plants to your yard is easier than you think and may be the most important thing you can do for our troubled ecosystem. Learn the basics about why and how to get started.  Black thumb gardeners welcome! This informational talk is served with a side of enthusiasm and encouragement. \n____________ \nPresenter Bio: Jocelyn Demuth is the owner of Checkerspot Farm\, a native plant nursery in Colrain MA (10 minutes from the Vermont Border.)  The nursery grows 160 species of native plants from seed for sale.  She is a speaker for Franklin County Conservation as well as a native plant consultant and landscaper.  She is also the author of the Five Hundred Yard Field Trip\, curriculum about native plants for students in grades k-8. This curriculum is available for free on the website www.fivehundredyardfieldtrip.com and has been funded by a grant from the MA Dept of Agriculture.
URL:https://brookslibraryvt.org/event/native-plants/
LOCATION:Main Reading Room
CATEGORIES:General
ATTACH;FMTTYPE=image/jpeg:https://eadn-wc04-3360218.nxedge.io/wp-content/uploads/2026/04/meadow-best-scaled.jpg
GEO:42.8553213;-72.5599024
END:VEVENT
BEGIN:VEVENT
DTSTART;TZID=America/New_York:20260509T130000
DTEND;TZID=America/New_York:20260509T160000
DTSTAMP:20260423T090336
CREATED:20250103T195250Z
LAST-MODIFIED:20251204T220811Z
UID:10004933-1778331600-1778342400@brookslibraryvt.org
SUMMARY:Brattleboro in Stitches
DESCRIPTION:Bring a work in progress to sew\, knit\, crochet\, embroider\, or mend. Sewing machines\, irons\, and companionship will be provided.
URL:https://brookslibraryvt.org/event/brattleboro-in-stitches-6/2026-05-09/
LOCATION:Meeting Room A – Community Meeting Room\, 224 Main Street\, Brattleboro\, VT\, 05301\, United States
CATEGORIES:Adults,Children & Families,General
ATTACH;FMTTYPE=image/png:https://eadn-wc04-3360218.nxedge.io/wp-content/uploads/2023/03/Brattleboro-in-Stitches-Event-Calendar2.png
ORGANIZER;CN="Brooks Memorial Library":MAILTO:outreach@brookslibraryvt.org
GEO:42.8553213;-72.5599024
X-APPLE-STRUCTURED-LOCATION;VALUE=URI;X-ADDRESS=Meeting Room A – Community Meeting Room 224 Main Street Brattleboro VT 05301 United States;X-APPLE-RADIUS=500;X-TITLE=224 Main Street:geo:-72.5599024,42.8553213
END:VEVENT
END:VCALENDAR