BEGIN:VCALENDAR
VERSION:2.0
PRODID:-//Brooks Memorial Library - Brattleboro VT - ECPv6.15.17.1//NONSGML v1.0//EN
CALSCALE:GREGORIAN
METHOD:PUBLISH
X-WR-CALNAME:Brooks Memorial Library - Brattleboro VT
X-ORIGINAL-URL:https://brookslibraryvt.org
X-WR-CALDESC:Events for Brooks Memorial Library - Brattleboro VT
REFRESH-INTERVAL;VALUE=DURATION:PT1H
X-Robots-Tag:noindex
X-PUBLISHED-TTL:PT1H
BEGIN:VTIMEZONE
TZID:America/New_York
BEGIN:DAYLIGHT
TZOFFSETFROM:-0500
TZOFFSETTO:-0400
TZNAME:EDT
DTSTART:20250309T070000
END:DAYLIGHT
BEGIN:STANDARD
TZOFFSETFROM:-0400
TZOFFSETTO:-0500
TZNAME:EST
DTSTART:20251102T060000
END:STANDARD
BEGIN:DAYLIGHT
TZOFFSETFROM:-0500
TZOFFSETTO:-0400
TZNAME:EDT
DTSTART:20260308T070000
END:DAYLIGHT
BEGIN:STANDARD
TZOFFSETFROM:-0400
TZOFFSETTO:-0500
TZNAME:EST
DTSTART:20261101T060000
END:STANDARD
BEGIN:DAYLIGHT
TZOFFSETFROM:-0500
TZOFFSETTO:-0400
TZNAME:EDT
DTSTART:20270314T070000
END:DAYLIGHT
BEGIN:STANDARD
TZOFFSETFROM:-0400
TZOFFSETTO:-0500
TZNAME:EST
DTSTART:20271107T060000
END:STANDARD
END:VTIMEZONE
BEGIN:VEVENT
DTSTART;TZID=America/New_York:20260921T190000
DTEND;TZID=America/New_York:20260921T203000
DTSTAMP:20260424T010247
CREATED:20260319T182343Z
LAST-MODIFIED:20260319T182344Z
UID:10005481-1790017200-1790022600@brookslibraryvt.org
SUMMARY:Sci-Fi Reading Group
DESCRIPTION:The Sci-Fi Reading Group will meet in the Quiet Reading Room from 7:00pm – 8:30pm to discuss another awesome Sci-Fi book! Title TBA! \nThe Sci-Fi Reading Group meets the third Monday of every month and is open to curious minds\, whether or not they’ve read this month’s selection.
URL:https://brookslibraryvt.org/event/sci-fi-reading-group-4-6/2026-09-21/
LOCATION:Meeting Room D – Quiet Reading Room\, 224 Main Street\, Brattleboro\, VT\, 05301\, United States
CATEGORIES:Adults,General,Teens
ATTACH;FMTTYPE=image/png:https://eadn-wc04-3360218.nxedge.io/wp-content/uploads/2024/12/SFRG-Generic-Icon.png
ORGANIZER;CN="Brooks Memorial Library":MAILTO:outreach@brookslibraryvt.org
GEO:42.8553213;-72.5599024
X-APPLE-STRUCTURED-LOCATION;VALUE=URI;X-ADDRESS=Meeting Room D – Quiet Reading Room 224 Main Street Brattleboro VT 05301 United States;X-APPLE-RADIUS=500;X-TITLE=224 Main Street:geo:-72.5599024,42.8553213
END:VEVENT
BEGIN:VEVENT
DTSTART;TZID=America/New_York:20260921T190000
DTEND;TZID=America/New_York:20260921T204500
DTSTAMP:20260424T010247
CREATED:20251227T171626Z
LAST-MODIFIED:20260126T225405Z
UID:10004573-1790017200-1790023500@brookslibraryvt.org
SUMMARY:Brattleboro Stamp Club
DESCRIPTION:Join the Brattleboro Stamp Club for all sorts of philatelic curios\, conversation\, and comradery!
URL:https://brookslibraryvt.org/event/brattleboro-stamp-club-5-2/2026-09-21/
LOCATION:Meeting Room A – Community Meeting Room\, 224 Main Street\, Brattleboro\, VT\, 05301\, United States
CATEGORIES:Adults,General
ATTACH;FMTTYPE=image/png:https://eadn-wc04-3360218.nxedge.io/wp-content/uploads/2022/04/Stamp-Club-Event.png
ORGANIZER;CN="Marshall Brooks%2C Stamp Club":MAILTO:marshallbrooks53@gmail.com
GEO:42.8553213;-72.5599024
X-APPLE-STRUCTURED-LOCATION;VALUE=URI;X-ADDRESS=Meeting Room A – Community Meeting Room 224 Main Street Brattleboro VT 05301 United States;X-APPLE-RADIUS=500;X-TITLE=224 Main Street:geo:-72.5599024,42.8553213
END:VEVENT
BEGIN:VEVENT
DTSTART;TZID=America/New_York:20260922T170000
DTEND;TZID=America/New_York:20260922T190000
DTSTAMP:20260424T010247
CREATED:20251204T194048Z
LAST-MODIFIED:20251204T194446Z
UID:10004790-1790096400-1790103600@brookslibraryvt.org
SUMMARY:Town Arts Committee
DESCRIPTION:The monthly meeting of the Town Arts Committee members invites guests and the public to discuss town arts!
URL:https://brookslibraryvt.org/event/town-arts-committee-3/2026-09-22/
LOCATION:Meeting Room A – Community Meeting Room\, 224 Main Street\, Brattleboro\, VT\, 05301\, United States
CATEGORIES:General
ATTACH;FMTTYPE=image/jpeg:https://eadn-wc04-3360218.nxedge.io/wp-content/uploads/2022/07/bratt-mural.jpg
ORGANIZER;CN="Brattleboro Town Arts Committee":MAILTO:brattleboroartscommittee@gmail.com
GEO:42.8553213;-72.5599024
X-APPLE-STRUCTURED-LOCATION;VALUE=URI;X-ADDRESS=Meeting Room A – Community Meeting Room 224 Main Street Brattleboro VT 05301 United States;X-APPLE-RADIUS=500;X-TITLE=224 Main Street:geo:-72.5599024,42.8553213
END:VEVENT
BEGIN:VEVENT
DTSTART;TZID=America/New_York:20260923T103000
DTEND;TZID=America/New_York:20260923T110000
DTSTAMP:20260424T010247
CREATED:20251107T161857Z
LAST-MODIFIED:20251107T161857Z
UID:10004662-1790159400-1790161200@brookslibraryvt.org
SUMMARY:Rhyme Time
DESCRIPTION:Join us on Wednesday mornings @ 10:30 am for 30 minutes of stories\, songs\, and fun! \nRhyme Time is for kids 5 & under and their caregivers. \nFree and open to the public.
URL:https://brookslibraryvt.org/event/rhyme-time-9/2026-09-23/
LOCATION:Meeting Room A – Community Meeting Room\, 224 Main Street\, Brattleboro\, VT\, 05301\, United States
CATEGORIES:Children & Families
ATTACH;FMTTYPE=image/png:https://eadn-wc04-3360218.nxedge.io/wp-content/uploads/2024/01/New-2-CLJ.png
ORGANIZER;CN="BML Children's Room":MAILTO:cr@brookslibraryvt.org
GEO:42.8553213;-72.5599024
X-APPLE-STRUCTURED-LOCATION;VALUE=URI;X-ADDRESS=Meeting Room A – Community Meeting Room 224 Main Street Brattleboro VT 05301 United States;X-APPLE-RADIUS=500;X-TITLE=224 Main Street:geo:-72.5599024,42.8553213
END:VEVENT
BEGIN:VEVENT
DTSTART;TZID=America/New_York:20260923T180000
DTEND;TZID=America/New_York:20260923T204500
DTSTAMP:20260424T010247
CREATED:20251210T213214Z
LAST-MODIFIED:20251210T213956Z
UID:10005039-1790186400-1790196300@brookslibraryvt.org
SUMMARY:Game Cafe!
DESCRIPTION:Come join game enthusiasts in playing Magic the Gathering in various formats (including Commander/EDH) as well as other fun and creative board & card games. \nBring your favorite games- All Ages Welcome!
URL:https://brookslibraryvt.org/event/game-cafe-6/2026-09-23/
LOCATION:Meeting Room D – Quiet Reading Room\, 224 Main Street\, Brattleboro\, VT\, 05301\, United States
CATEGORIES:Children & Families,General,Teens
ATTACH;FMTTYPE=image/webp:https://eadn-wc04-3360218.nxedge.io/wp-content/uploads/2022/07/pic163749.webp
GEO:42.8553213;-72.5599024
X-APPLE-STRUCTURED-LOCATION;VALUE=URI;X-ADDRESS=Meeting Room D – Quiet Reading Room 224 Main Street Brattleboro VT 05301 United States;X-APPLE-RADIUS=500;X-TITLE=224 Main Street:geo:-72.5599024,42.8553213
END:VEVENT
BEGIN:VEVENT
DTSTART;TZID=America/New_York:20260926T103000
DTEND;TZID=America/New_York:20260926T120000
DTSTAMP:20260424T010247
CREATED:20260205T221951Z
LAST-MODIFIED:20260420T205857Z
UID:10005652-1790418600-1790424000@brookslibraryvt.org
SUMMARY:Talking About Tech
DESCRIPTION:Illustration AI-generated with Google Gemini.  Can you spot the signs? \nBring your tech questions and answers to a new monthly series for technology help. Fourth Saturdays from 10:30 to noon at Brooks Memorial Library. \nOur vision is an interactive gathering a bit like a book club crossed with a crafting group\, with a touch of a drop-in bike repair clinic.  Each session will begin with a 30-minute guided discussion of a tech topic of interest.  One month we might talk about managing passwords\, or organizing email and files; how the internet works\, or vibe coding with AI. \nThen we’ll have a about an hour for mutual tech support\, on the focus topic or other areas of need and interest. Maybe you have the answer someone else is looking for! The library’s Electronic Services Specialist\, Matt\, will be there to provide expert help. Bring your phone\, tablet\, or laptop. \nThe featured topic of the month will be announced in advance.  Suggestions are welcome.  We want Talking About Tech to be shaped through participation\, so bring ideas for a future topic to any session.  You can also contact the library with your request.  Maybe there’s an area where you would be the perfect person to lead our opening discussion.
URL:https://brookslibraryvt.org/event/talking-about-tech-2-3/2026-09-26/
LOCATION:Meeting Room D – Quiet Reading Room\, 224 Main Street\, Brattleboro\, VT\, 05301\, United States
ATTACH;FMTTYPE=image/png:https://eadn-wc04-3360218.nxedge.io/wp-content/uploads/2026/01/TaT-Gemini-Generated-cropped.png
ORGANIZER;CN="Brooks Memorial Library":MAILTO:outreach@brookslibraryvt.org
GEO:42.8553213;-72.5599024
X-APPLE-STRUCTURED-LOCATION;VALUE=URI;X-ADDRESS=Meeting Room D – Quiet Reading Room 224 Main Street Brattleboro VT 05301 United States;X-APPLE-RADIUS=500;X-TITLE=224 Main Street:geo:-72.5599024,42.8553213
END:VEVENT
BEGIN:VEVENT
DTSTART;TZID=America/New_York:20260926T130000
DTEND;TZID=America/New_York:20260926T160000
DTSTAMP:20260424T010247
CREATED:20250103T195250Z
LAST-MODIFIED:20251204T220811Z
UID:10004953-1790427600-1790438400@brookslibraryvt.org
SUMMARY:Brattleboro in Stitches
DESCRIPTION:Bring a work in progress to sew\, knit\, crochet\, embroider\, or mend. Sewing machines\, irons\, and companionship will be provided.
URL:https://brookslibraryvt.org/event/brattleboro-in-stitches-6/2026-09-26/
LOCATION:Meeting Room A – Community Meeting Room\, 224 Main Street\, Brattleboro\, VT\, 05301\, United States
CATEGORIES:Adults,Children & Families,General
ATTACH;FMTTYPE=image/png:https://eadn-wc04-3360218.nxedge.io/wp-content/uploads/2023/03/Brattleboro-in-Stitches-Event-Calendar2.png
ORGANIZER;CN="Brooks Memorial Library":MAILTO:outreach@brookslibraryvt.org
GEO:42.8553213;-72.5599024
X-APPLE-STRUCTURED-LOCATION;VALUE=URI;X-ADDRESS=Meeting Room A – Community Meeting Room 224 Main Street Brattleboro VT 05301 United States;X-APPLE-RADIUS=500;X-TITLE=224 Main Street:geo:-72.5599024,42.8553213
END:VEVENT
END:VCALENDAR