BEGIN:VCALENDAR
VERSION:2.0
PRODID:-//Brooks Memorial Library - Brattleboro VT - ECPv6.15.17.1//NONSGML v1.0//EN
CALSCALE:GREGORIAN
METHOD:PUBLISH
X-ORIGINAL-URL:https://brookslibraryvt.org
X-WR-CALDESC:Events for Brooks Memorial Library - Brattleboro VT
REFRESH-INTERVAL;VALUE=DURATION:PT1H
X-Robots-Tag:noindex
X-PUBLISHED-TTL:PT1H
BEGIN:VTIMEZONE
TZID:America/New_York
BEGIN:DAYLIGHT
TZOFFSETFROM:-0500
TZOFFSETTO:-0400
TZNAME:EDT
DTSTART:20240310T070000
END:DAYLIGHT
BEGIN:STANDARD
TZOFFSETFROM:-0400
TZOFFSETTO:-0500
TZNAME:EST
DTSTART:20241103T060000
END:STANDARD
BEGIN:DAYLIGHT
TZOFFSETFROM:-0500
TZOFFSETTO:-0400
TZNAME:EDT
DTSTART:20250309T070000
END:DAYLIGHT
BEGIN:STANDARD
TZOFFSETFROM:-0400
TZOFFSETTO:-0500
TZNAME:EST
DTSTART:20251102T060000
END:STANDARD
BEGIN:DAYLIGHT
TZOFFSETFROM:-0500
TZOFFSETTO:-0400
TZNAME:EDT
DTSTART:20260308T070000
END:DAYLIGHT
BEGIN:STANDARD
TZOFFSETFROM:-0400
TZOFFSETTO:-0500
TZNAME:EST
DTSTART:20261101T060000
END:STANDARD
END:VTIMEZONE
BEGIN:VEVENT
DTSTART;TZID=America/New_York:20250929T173000
DTEND;TZID=America/New_York:20250929T190000
DTSTAMP:20260423T214821
CREATED:20250916T211124Z
LAST-MODIFIED:20250925T172936Z
UID:10004509-1759167000-1759172400@brookslibraryvt.org
SUMMARY:Youth & Relationships Workshop - CANCELLED
DESCRIPTION:EVENT HAS BEEN CANCELLED by organizer  \nWORKSHOP FOR YOUTH\, CAREGIVERS & MENTORS – FREE YOUTH & RELATIONSHIPS WORKSHOP! \nThis training is for young people\, parents/caregivers and mentors to better understand adolescent development\, explore how experiences shape our perspectives\, how relationships can support us to grow\, and how to be supportive to our youth through difficult times. Facilitated by Matt Wolf from Vermont Afterschool and brought to you by Building a Positive Community\, Brattleboro Area Youth Council\, and Vermont Afterschool. \nLight snacks and beverages will be provided.  Registration is recommended: https://docs.google.com/forms/d/e/1FAIpQLSfeeCNRZrH3v3RMwaQByhgA6SwTe8aMHExgtYl3JoZ0Ld2sHw/viewform
URL:https://brookslibraryvt.org/event/youth-relationships-workshop/
LOCATION:Meeting Room A – Community Meeting Room\, 224 Main Street\, Brattleboro\, VT\, 05301\, United States
CATEGORIES:Adults,General,Teens
ATTACH;FMTTYPE=image/png:https://eadn-wc04-3360218.nxedge.io/wp-content/uploads/2025/09/Untitled-LinkedIn-Post-2.png
GEO:42.8553213;-72.5599024
X-APPLE-STRUCTURED-LOCATION;VALUE=URI;X-ADDRESS=Meeting Room A – Community Meeting Room 224 Main Street Brattleboro VT 05301 United States;X-APPLE-RADIUS=500;X-TITLE=224 Main Street:geo:-72.5599024,42.8553213
END:VEVENT
END:VCALENDAR