BEGIN:VCALENDAR
VERSION:2.0
PRODID:-//Brooks Memorial Library - Brattleboro VT - ECPv6.15.17.1//NONSGML v1.0//EN
CALSCALE:GREGORIAN
METHOD:PUBLISH
X-WR-CALNAME:Brooks Memorial Library - Brattleboro VT
X-ORIGINAL-URL:https://brookslibraryvt.org
X-WR-CALDESC:Events for Brooks Memorial Library - Brattleboro VT
REFRESH-INTERVAL;VALUE=DURATION:PT1H
X-Robots-Tag:noindex
X-PUBLISHED-TTL:PT1H
BEGIN:VTIMEZONE
TZID:America/New_York
BEGIN:DAYLIGHT
TZOFFSETFROM:-0500
TZOFFSETTO:-0400
TZNAME:EDT
DTSTART:20220313T070000
END:DAYLIGHT
BEGIN:STANDARD
TZOFFSETFROM:-0400
TZOFFSETTO:-0500
TZNAME:EST
DTSTART:20221106T060000
END:STANDARD
BEGIN:DAYLIGHT
TZOFFSETFROM:-0500
TZOFFSETTO:-0400
TZNAME:EDT
DTSTART:20230312T070000
END:DAYLIGHT
BEGIN:STANDARD
TZOFFSETFROM:-0400
TZOFFSETTO:-0500
TZNAME:EST
DTSTART:20231105T060000
END:STANDARD
BEGIN:DAYLIGHT
TZOFFSETFROM:-0500
TZOFFSETTO:-0400
TZNAME:EDT
DTSTART:20240310T070000
END:DAYLIGHT
BEGIN:STANDARD
TZOFFSETFROM:-0400
TZOFFSETTO:-0500
TZNAME:EST
DTSTART:20241103T060000
END:STANDARD
END:VTIMEZONE
BEGIN:VEVENT
DTSTART;TZID=America/New_York:20230621T190000
DTEND;TZID=America/New_York:20230621T203000
DTSTAMP:20260425T234758
CREATED:20230526T180124Z
LAST-MODIFIED:20230621T212302Z
UID:10000500-1687374000-1687379400@brookslibraryvt.org
SUMMARY:POSTPONED: Democracy Forum--"The American Way: Profits Over People. A History"
DESCRIPTION:POSTPONED \nThe presentation will trace the historical roots of money’s role in the relationships of power through the early development of representative democracy into the present.  The analysis identifies central dynamics in contemporary America as having germinated in the 1640s and developed with consistent logic from that point forward.  By shedding light on this continuum we can better understand persistent tendencies in our world that don’t seem to go away but should.  Specifically there are two.  The first is the social priority to protect\, value and honor money over people.  The second is the unrelenting societal default that protects\, values and honors white people over all others; in a word\, racism
URL:https://brookslibraryvt.org/event/democracy-forum/
LOCATION:Meeting Room A – Community Meeting Room\, 224 Main Street\, Brattleboro\, VT\, 05301\, United States
CATEGORIES:Adults
ATTACH;FMTTYPE=image/png:https://eadn-wc04-3360218.nxedge.io/wp-content/uploads/2023/02/Democracy-Forum-Small.png
ORGANIZER;CN="Democracy Forum":MAILTO:nickliv4@gmail.com
GEO:42.8553213;-72.5599024
X-APPLE-STRUCTURED-LOCATION;VALUE=URI;X-ADDRESS=Meeting Room A – Community Meeting Room 224 Main Street Brattleboro VT 05301 United States;X-APPLE-RADIUS=500;X-TITLE=224 Main Street:geo:-72.5599024,42.8553213
END:VEVENT
BEGIN:VEVENT
DTSTART;TZID=America/New_York:20230313T180000
DTEND;TZID=America/New_York:20230313T200000
DTSTAMP:20260425T234758
CREATED:20230222T235212Z
LAST-MODIFIED:20230223T010719Z
UID:10000351-1678730400-1678737600@brookslibraryvt.org
SUMMARY:Democracy Forum: "Our Slow Motion Judicial Coup"
DESCRIPTION:Tim Kipp will present the fifty-year history of corporate\, social\, and political strategy to fill the American judiciary with ultra-conservative judges. The strategy and its goals were published in August 1973 and have been fulfilled patiently ever since. The results are plain to see\, from Dobbs vs. Jackson to gerrymandering\, voter suppression and anti-immigration decisions in federal courts at all levels.
URL:https://brookslibraryvt.org/event/df-slow-motion-judicial-coup/
LOCATION:Meeting Room A – Community Meeting Room\, 224 Main Street\, Brattleboro\, VT\, 05301\, United States
CATEGORIES:General
ATTACH;FMTTYPE=image/png:https://eadn-wc04-3360218.nxedge.io/wp-content/uploads/2023/02/Democracy-Forum-Small.png
ORGANIZER;CN="Democracy Forum":MAILTO:nickliv4@gmail.com
GEO:42.8553213;-72.5599024
X-APPLE-STRUCTURED-LOCATION;VALUE=URI;X-ADDRESS=Meeting Room A – Community Meeting Room 224 Main Street Brattleboro VT 05301 United States;X-APPLE-RADIUS=500;X-TITLE=224 Main Street:geo:-72.5599024,42.8553213
END:VEVENT
END:VCALENDAR