BEGIN:VCALENDAR
VERSION:2.0
PRODID:-//Brooks Memorial Library - Brattleboro VT - ECPv6.15.17.1//NONSGML v1.0//EN
CALSCALE:GREGORIAN
METHOD:PUBLISH
X-ORIGINAL-URL:https://brookslibraryvt.org
X-WR-CALDESC:Events for Brooks Memorial Library - Brattleboro VT
REFRESH-INTERVAL;VALUE=DURATION:PT1H
X-Robots-Tag:noindex
X-PUBLISHED-TTL:PT1H
BEGIN:VTIMEZONE
TZID:America/New_York
BEGIN:DAYLIGHT
TZOFFSETFROM:-0500
TZOFFSETTO:-0400
TZNAME:EDT
DTSTART:20220313T070000
END:DAYLIGHT
BEGIN:STANDARD
TZOFFSETFROM:-0400
TZOFFSETTO:-0500
TZNAME:EST
DTSTART:20221106T060000
END:STANDARD
BEGIN:DAYLIGHT
TZOFFSETFROM:-0500
TZOFFSETTO:-0400
TZNAME:EDT
DTSTART:20230312T070000
END:DAYLIGHT
BEGIN:STANDARD
TZOFFSETFROM:-0400
TZOFFSETTO:-0500
TZNAME:EST
DTSTART:20231105T060000
END:STANDARD
BEGIN:DAYLIGHT
TZOFFSETFROM:-0500
TZOFFSETTO:-0400
TZNAME:EDT
DTSTART:20240310T070000
END:DAYLIGHT
BEGIN:STANDARD
TZOFFSETFROM:-0400
TZOFFSETTO:-0500
TZNAME:EST
DTSTART:20241103T060000
END:STANDARD
BEGIN:DAYLIGHT
TZOFFSETFROM:-0500
TZOFFSETTO:-0400
TZNAME:EDT
DTSTART:20250309T070000
END:DAYLIGHT
BEGIN:STANDARD
TZOFFSETFROM:-0400
TZOFFSETTO:-0500
TZNAME:EST
DTSTART:20251102T060000
END:STANDARD
END:VTIMEZONE
BEGIN:VEVENT
DTSTART;TZID=America/New_York:20241002T183000
DTEND;TZID=America/New_York:20241002T193000
DTSTAMP:20260424T053952
CREATED:20240918T193518Z
LAST-MODIFIED:20240918T193518Z
UID:10002353-1727893800-1727897400@brookslibraryvt.org
SUMMARY:Express Fluency - Border Diaries: What is Really Happening at the US/Mexico Border?
DESCRIPTION:Putney residents\, Elissa McLean and Andy Winter\, will share their experiences providing humanitarian aid to asylum seekers at the southern border in 2023 and 2024. \nLearn about how the situation has changed there since Biden’s executive order in June and what aid groups are doing to offer support to those in need.
URL:https://brookslibraryvt.org/event/express-fluency-border-diaries-what-is-really-happening-at-the-us-mexico-border/
LOCATION:Meeting Room A – Community Meeting Room\, 224 Main Street\, Brattleboro\, VT\, 05301\, United States
ATTACH;FMTTYPE=image/png:https://eadn-wc04-3360218.nxedge.io/wp-content/uploads/2024/09/express-fluency-logo-mobile-300x141-1936783214.png
ORGANIZER;CN="Express Fluency":MAILTO:elissa@expressfluency.com
GEO:42.8553213;-72.5599024
X-APPLE-STRUCTURED-LOCATION;VALUE=URI;X-ADDRESS=Meeting Room A – Community Meeting Room 224 Main Street Brattleboro VT 05301 United States;X-APPLE-RADIUS=500;X-TITLE=224 Main Street:geo:-72.5599024,42.8553213
END:VEVENT
BEGIN:VEVENT
DTSTART;TZID=America/New_York:20231219T180000
DTEND;TZID=America/New_York:20231219T193000
DTSTAMP:20260424T053952
CREATED:20231218T201647Z
LAST-MODIFIED:20231218T201647Z
UID:10001618-1703008800-1703014200@brookslibraryvt.org
SUMMARY:Stories from the Wall: Humanitarian Crisis in the Borderlands
DESCRIPTION:Elissa McLean and Andy Winter have just returned from providing humanitarian aid for asylum seekers at the border wall near Sasabe\, AZ. Come hear their firsthand accounts of the families they met\, the response efforts underway\, and the response of the Border Patrol.
URL:https://brookslibraryvt.org/event/stories-from-the-wall-humanitarian-crisis-in-the-borderlands/
LOCATION:Meeting Room A – Community Meeting Room\, 224 Main Street\, Brattleboro\, VT\, 05301\, United States
CATEGORIES:General
ATTACH;FMTTYPE=image/png:https://eadn-wc04-3360218.nxedge.io/wp-content/uploads/2023/12/StoriesFromTheWall.png
ORGANIZER;CN="Express Fluency":MAILTO:elissa@expressfluency.com
GEO:42.8553213;-72.5599024
X-APPLE-STRUCTURED-LOCATION;VALUE=URI;X-ADDRESS=Meeting Room A – Community Meeting Room 224 Main Street Brattleboro VT 05301 United States;X-APPLE-RADIUS=500;X-TITLE=224 Main Street:geo:-72.5599024,42.8553213
END:VEVENT
END:VCALENDAR