BEGIN:VCALENDAR
VERSION:2.0
PRODID:-//Brooks Memorial Library - Brattleboro VT - ECPv6.15.17.1//NONSGML v1.0//EN
CALSCALE:GREGORIAN
METHOD:PUBLISH
X-ORIGINAL-URL:https://brookslibraryvt.org
X-WR-CALDESC:Events for Brooks Memorial Library - Brattleboro VT
REFRESH-INTERVAL;VALUE=DURATION:PT1H
X-Robots-Tag:noindex
X-PUBLISHED-TTL:PT1H
BEGIN:VTIMEZONE
TZID:America/New_York
BEGIN:DAYLIGHT
TZOFFSETFROM:-0500
TZOFFSETTO:-0400
TZNAME:EDT
DTSTART:20240310T070000
END:DAYLIGHT
BEGIN:STANDARD
TZOFFSETFROM:-0400
TZOFFSETTO:-0500
TZNAME:EST
DTSTART:20241103T060000
END:STANDARD
BEGIN:DAYLIGHT
TZOFFSETFROM:-0500
TZOFFSETTO:-0400
TZNAME:EDT
DTSTART:20250309T070000
END:DAYLIGHT
BEGIN:STANDARD
TZOFFSETFROM:-0400
TZOFFSETTO:-0500
TZNAME:EST
DTSTART:20251102T060000
END:STANDARD
BEGIN:DAYLIGHT
TZOFFSETFROM:-0500
TZOFFSETTO:-0400
TZNAME:EDT
DTSTART:20260308T070000
END:DAYLIGHT
BEGIN:STANDARD
TZOFFSETFROM:-0400
TZOFFSETTO:-0500
TZNAME:EST
DTSTART:20261101T060000
END:STANDARD
END:VTIMEZONE
BEGIN:VEVENT
DTSTART;TZID=America/New_York:20251226T160000
DTEND;TZID=America/New_York:20251226T173000
DTSTAMP:20260423T181715
CREATED:20250922T183532Z
LAST-MODIFIED:20251217T184440Z
UID:10004536-1766764800-1766770200@brookslibraryvt.org
SUMMARY:Introduction to Buddhist Mindfulness Meditation
DESCRIPTION:This offering will be led by Bhante Rathana\, a Buddhist monk originally from Sri Lanka and currently residing at Serenity Central of New England in Jacksonville\, Vermont. He has been dedicated to the path of Dhamma since the age of 13\, and his journey includes over two decades of monastic training\, study\, and teaching in Sri Lanka and the United States. \nAt these sessions\, Bhante will be offering practical guidance in breathing meditation (ānāpānasati)\, loving-kindness meditation (mettā bhāvanā)\, and walking meditation\, rooted in the original teachings of the Buddha as preserved in the Pāli Canon. His approach draws directly from early Buddhist texts\, focusing on mindfulness\, compassion\, and inner peace. \nWith gentle\, step-by-step instruction\, Bhante aims to help participants develop calm\, clarity\, and deeper awareness—whether you are new to meditation or wish to strengthen your practice.
URL:https://brookslibraryvt.org/event/introduction-to-buddhist-mindfulness-meditation/2025-12-26/
CATEGORIES:Adults,General
ATTACH;FMTTYPE=image/jpeg:https://eadn-wc04-3360218.nxedge.io/wp-content/uploads/2025/07/513707710_122175108476357187_1881501774102188897_n.jpg
ORGANIZER;CN="Green Mountain Meditation Center (at Serenity Central)":MAILTO:GreenMountainMonk@gmail.com
END:VEVENT
BEGIN:VEVENT
DTSTART;TZID=America/New_York:20251219T160000
DTEND;TZID=America/New_York:20251219T173000
DTSTAMP:20260423T181715
CREATED:20250922T183532Z
LAST-MODIFIED:20251217T184440Z
UID:10004535-1766160000-1766165400@brookslibraryvt.org
SUMMARY:Introduction to Buddhist Mindfulness Meditation
DESCRIPTION:This offering will be led by Bhante Rathana\, a Buddhist monk originally from Sri Lanka and currently residing at Serenity Central of New England in Jacksonville\, Vermont. He has been dedicated to the path of Dhamma since the age of 13\, and his journey includes over two decades of monastic training\, study\, and teaching in Sri Lanka and the United States. \nAt these sessions\, Bhante will be offering practical guidance in breathing meditation (ānāpānasati)\, loving-kindness meditation (mettā bhāvanā)\, and walking meditation\, rooted in the original teachings of the Buddha as preserved in the Pāli Canon. His approach draws directly from early Buddhist texts\, focusing on mindfulness\, compassion\, and inner peace. \nWith gentle\, step-by-step instruction\, Bhante aims to help participants develop calm\, clarity\, and deeper awareness—whether you are new to meditation or wish to strengthen your practice.
URL:https://brookslibraryvt.org/event/introduction-to-buddhist-mindfulness-meditation/2025-12-19/
CATEGORIES:Adults,General
ATTACH;FMTTYPE=image/jpeg:https://eadn-wc04-3360218.nxedge.io/wp-content/uploads/2025/07/513707710_122175108476357187_1881501774102188897_n.jpg
ORGANIZER;CN="Green Mountain Meditation Center (at Serenity Central)":MAILTO:GreenMountainMonk@gmail.com
END:VEVENT
BEGIN:VEVENT
DTSTART;TZID=America/New_York:20251212T160000
DTEND;TZID=America/New_York:20251212T173000
DTSTAMP:20260423T181715
CREATED:20250922T183532Z
LAST-MODIFIED:20251217T184440Z
UID:10004534-1765555200-1765560600@brookslibraryvt.org
SUMMARY:Introduction to Buddhist Mindfulness Meditation
DESCRIPTION:This offering will be led by Bhante Rathana\, a Buddhist monk originally from Sri Lanka and currently residing at Serenity Central of New England in Jacksonville\, Vermont. He has been dedicated to the path of Dhamma since the age of 13\, and his journey includes over two decades of monastic training\, study\, and teaching in Sri Lanka and the United States. \nAt these sessions\, Bhante will be offering practical guidance in breathing meditation (ānāpānasati)\, loving-kindness meditation (mettā bhāvanā)\, and walking meditation\, rooted in the original teachings of the Buddha as preserved in the Pāli Canon. His approach draws directly from early Buddhist texts\, focusing on mindfulness\, compassion\, and inner peace. \nWith gentle\, step-by-step instruction\, Bhante aims to help participants develop calm\, clarity\, and deeper awareness—whether you are new to meditation or wish to strengthen your practice.
URL:https://brookslibraryvt.org/event/introduction-to-buddhist-mindfulness-meditation/2025-12-12/
CATEGORIES:Adults,General
ATTACH;FMTTYPE=image/jpeg:https://eadn-wc04-3360218.nxedge.io/wp-content/uploads/2025/07/513707710_122175108476357187_1881501774102188897_n.jpg
ORGANIZER;CN="Green Mountain Meditation Center (at Serenity Central)":MAILTO:GreenMountainMonk@gmail.com
END:VEVENT
BEGIN:VEVENT
DTSTART;TZID=America/New_York:20251205T160000
DTEND;TZID=America/New_York:20251205T173000
DTSTAMP:20260423T181715
CREATED:20250922T183532Z
LAST-MODIFIED:20251217T184440Z
UID:10004533-1764950400-1764955800@brookslibraryvt.org
SUMMARY:Introduction to Buddhist Mindfulness Meditation
DESCRIPTION:This offering will be led by Bhante Rathana\, a Buddhist monk originally from Sri Lanka and currently residing at Serenity Central of New England in Jacksonville\, Vermont. He has been dedicated to the path of Dhamma since the age of 13\, and his journey includes over two decades of monastic training\, study\, and teaching in Sri Lanka and the United States. \nAt these sessions\, Bhante will be offering practical guidance in breathing meditation (ānāpānasati)\, loving-kindness meditation (mettā bhāvanā)\, and walking meditation\, rooted in the original teachings of the Buddha as preserved in the Pāli Canon. His approach draws directly from early Buddhist texts\, focusing on mindfulness\, compassion\, and inner peace. \nWith gentle\, step-by-step instruction\, Bhante aims to help participants develop calm\, clarity\, and deeper awareness—whether you are new to meditation or wish to strengthen your practice.
URL:https://brookslibraryvt.org/event/introduction-to-buddhist-mindfulness-meditation/2025-12-05/
CATEGORIES:Adults,General
ATTACH;FMTTYPE=image/jpeg:https://eadn-wc04-3360218.nxedge.io/wp-content/uploads/2025/07/513707710_122175108476357187_1881501774102188897_n.jpg
ORGANIZER;CN="Green Mountain Meditation Center (at Serenity Central)":MAILTO:GreenMountainMonk@gmail.com
END:VEVENT
BEGIN:VEVENT
DTSTART;TZID=America/New_York:20251128T160000
DTEND;TZID=America/New_York:20251128T173000
DTSTAMP:20260423T181715
CREATED:20250922T183532Z
LAST-MODIFIED:20251217T184440Z
UID:10004532-1764345600-1764351000@brookslibraryvt.org
SUMMARY:Introduction to Buddhist Mindfulness Meditation
DESCRIPTION:This offering will be led by Bhante Rathana\, a Buddhist monk originally from Sri Lanka and currently residing at Serenity Central of New England in Jacksonville\, Vermont. He has been dedicated to the path of Dhamma since the age of 13\, and his journey includes over two decades of monastic training\, study\, and teaching in Sri Lanka and the United States. \nAt these sessions\, Bhante will be offering practical guidance in breathing meditation (ānāpānasati)\, loving-kindness meditation (mettā bhāvanā)\, and walking meditation\, rooted in the original teachings of the Buddha as preserved in the Pāli Canon. His approach draws directly from early Buddhist texts\, focusing on mindfulness\, compassion\, and inner peace. \nWith gentle\, step-by-step instruction\, Bhante aims to help participants develop calm\, clarity\, and deeper awareness—whether you are new to meditation or wish to strengthen your practice.
URL:https://brookslibraryvt.org/event/introduction-to-buddhist-mindfulness-meditation/2025-11-28/
CATEGORIES:Adults,General
ATTACH;FMTTYPE=image/jpeg:https://eadn-wc04-3360218.nxedge.io/wp-content/uploads/2025/07/513707710_122175108476357187_1881501774102188897_n.jpg
ORGANIZER;CN="Green Mountain Meditation Center (at Serenity Central)":MAILTO:GreenMountainMonk@gmail.com
END:VEVENT
BEGIN:VEVENT
DTSTART;TZID=America/New_York:20251121T160000
DTEND;TZID=America/New_York:20251121T173000
DTSTAMP:20260423T181715
CREATED:20250922T183532Z
LAST-MODIFIED:20251217T184440Z
UID:10004531-1763740800-1763746200@brookslibraryvt.org
SUMMARY:Introduction to Buddhist Mindfulness Meditation
DESCRIPTION:This offering will be led by Bhante Rathana\, a Buddhist monk originally from Sri Lanka and currently residing at Serenity Central of New England in Jacksonville\, Vermont. He has been dedicated to the path of Dhamma since the age of 13\, and his journey includes over two decades of monastic training\, study\, and teaching in Sri Lanka and the United States. \nAt these sessions\, Bhante will be offering practical guidance in breathing meditation (ānāpānasati)\, loving-kindness meditation (mettā bhāvanā)\, and walking meditation\, rooted in the original teachings of the Buddha as preserved in the Pāli Canon. His approach draws directly from early Buddhist texts\, focusing on mindfulness\, compassion\, and inner peace. \nWith gentle\, step-by-step instruction\, Bhante aims to help participants develop calm\, clarity\, and deeper awareness—whether you are new to meditation or wish to strengthen your practice.
URL:https://brookslibraryvt.org/event/introduction-to-buddhist-mindfulness-meditation/2025-11-21/
CATEGORIES:Adults,General
ATTACH;FMTTYPE=image/jpeg:https://eadn-wc04-3360218.nxedge.io/wp-content/uploads/2025/07/513707710_122175108476357187_1881501774102188897_n.jpg
ORGANIZER;CN="Green Mountain Meditation Center (at Serenity Central)":MAILTO:GreenMountainMonk@gmail.com
END:VEVENT
BEGIN:VEVENT
DTSTART;TZID=America/New_York:20251107T160000
DTEND;TZID=America/New_York:20251107T173000
DTSTAMP:20260423T181715
CREATED:20250922T183532Z
LAST-MODIFIED:20251217T184440Z
UID:10004530-1762531200-1762536600@brookslibraryvt.org
SUMMARY:Introduction to Buddhist Mindfulness Meditation
DESCRIPTION:This offering will be led by Bhante Rathana\, a Buddhist monk originally from Sri Lanka and currently residing at Serenity Central of New England in Jacksonville\, Vermont. He has been dedicated to the path of Dhamma since the age of 13\, and his journey includes over two decades of monastic training\, study\, and teaching in Sri Lanka and the United States. \nAt these sessions\, Bhante will be offering practical guidance in breathing meditation (ānāpānasati)\, loving-kindness meditation (mettā bhāvanā)\, and walking meditation\, rooted in the original teachings of the Buddha as preserved in the Pāli Canon. His approach draws directly from early Buddhist texts\, focusing on mindfulness\, compassion\, and inner peace. \nWith gentle\, step-by-step instruction\, Bhante aims to help participants develop calm\, clarity\, and deeper awareness—whether you are new to meditation or wish to strengthen your practice.
URL:https://brookslibraryvt.org/event/introduction-to-buddhist-mindfulness-meditation/2025-11-07/
CATEGORIES:Adults,General
ATTACH;FMTTYPE=image/jpeg:https://eadn-wc04-3360218.nxedge.io/wp-content/uploads/2025/07/513707710_122175108476357187_1881501774102188897_n.jpg
ORGANIZER;CN="Green Mountain Meditation Center (at Serenity Central)":MAILTO:GreenMountainMonk@gmail.com
END:VEVENT
BEGIN:VEVENT
DTSTART;TZID=America/New_York:20251031T160000
DTEND;TZID=America/New_York:20251031T173000
DTSTAMP:20260423T181715
CREATED:20251030T214659Z
LAST-MODIFIED:20251217T184355Z
UID:10004529-1761926400-1761931800@brookslibraryvt.org
SUMMARY:Introduction to Buddhist Mindfulness Meditation
DESCRIPTION:10/31 Canceled – Call Serenity Central regarding the 11/07 session. (802-368-2015) \nThis offering will be led by Bhante Rathana\, a Buddhist monk originally from Sri Lanka and currently residing at Serenity Central of New England in Jacksonville\, Vermont. He has been dedicated to the path of Dhamma since the age of 13\, and his journey includes over two decades of monastic training\, study\, and teaching in Sri Lanka and the United States. \nAt these sessions\, Bhante will be offering practical guidance in breathing meditation (ānāpānasati)\, loving-kindness meditation (mettā bhāvanā)\, and walking meditation\, rooted in the original teachings of the Buddha as preserved in the Pāli Canon. His approach draws directly from early Buddhist texts\, focusing on mindfulness\, compassion\, and inner peace. \nWith gentle\, step-by-step instruction\, Bhante aims to help participants develop calm\, clarity\, and deeper awareness—whether you are new to meditation or wish to strengthen your practice.
URL:https://brookslibraryvt.org/event/introduction-to-buddhist-mindfulness-meditation-2/
CATEGORIES:Adults,General
ATTACH;FMTTYPE=image/png:https://eadn-wc04-3360218.nxedge.io/wp-content/uploads/2025/10/Canceled-Mindfulness.png
ORGANIZER;CN="Green Mountain Meditation Center (at Serenity Central)":MAILTO:GreenMountainMonk@gmail.com
END:VEVENT
BEGIN:VEVENT
DTSTART;TZID=America/New_York:20251024T160000
DTEND;TZID=America/New_York:20251024T173000
DTSTAMP:20260423T181715
CREATED:20250922T183532Z
LAST-MODIFIED:20251217T184440Z
UID:10004528-1761321600-1761327000@brookslibraryvt.org
SUMMARY:Introduction to Buddhist Mindfulness Meditation
DESCRIPTION:This offering will be led by Bhante Rathana\, a Buddhist monk originally from Sri Lanka and currently residing at Serenity Central of New England in Jacksonville\, Vermont. He has been dedicated to the path of Dhamma since the age of 13\, and his journey includes over two decades of monastic training\, study\, and teaching in Sri Lanka and the United States. \nAt these sessions\, Bhante will be offering practical guidance in breathing meditation (ānāpānasati)\, loving-kindness meditation (mettā bhāvanā)\, and walking meditation\, rooted in the original teachings of the Buddha as preserved in the Pāli Canon. His approach draws directly from early Buddhist texts\, focusing on mindfulness\, compassion\, and inner peace. \nWith gentle\, step-by-step instruction\, Bhante aims to help participants develop calm\, clarity\, and deeper awareness—whether you are new to meditation or wish to strengthen your practice.
URL:https://brookslibraryvt.org/event/introduction-to-buddhist-mindfulness-meditation/2025-10-24/
CATEGORIES:Adults,General
ATTACH;FMTTYPE=image/jpeg:https://eadn-wc04-3360218.nxedge.io/wp-content/uploads/2025/07/513707710_122175108476357187_1881501774102188897_n.jpg
ORGANIZER;CN="Green Mountain Meditation Center (at Serenity Central)":MAILTO:GreenMountainMonk@gmail.com
END:VEVENT
BEGIN:VEVENT
DTSTART;TZID=America/New_York:20251017T160000
DTEND;TZID=America/New_York:20251017T173000
DTSTAMP:20260423T181715
CREATED:20250922T183532Z
LAST-MODIFIED:20251217T184440Z
UID:10004527-1760716800-1760722200@brookslibraryvt.org
SUMMARY:Introduction to Buddhist Mindfulness Meditation
DESCRIPTION:This offering will be led by Bhante Rathana\, a Buddhist monk originally from Sri Lanka and currently residing at Serenity Central of New England in Jacksonville\, Vermont. He has been dedicated to the path of Dhamma since the age of 13\, and his journey includes over two decades of monastic training\, study\, and teaching in Sri Lanka and the United States. \nAt these sessions\, Bhante will be offering practical guidance in breathing meditation (ānāpānasati)\, loving-kindness meditation (mettā bhāvanā)\, and walking meditation\, rooted in the original teachings of the Buddha as preserved in the Pāli Canon. His approach draws directly from early Buddhist texts\, focusing on mindfulness\, compassion\, and inner peace. \nWith gentle\, step-by-step instruction\, Bhante aims to help participants develop calm\, clarity\, and deeper awareness—whether you are new to meditation or wish to strengthen your practice.
URL:https://brookslibraryvt.org/event/introduction-to-buddhist-mindfulness-meditation/2025-10-17/
CATEGORIES:Adults,General
ATTACH;FMTTYPE=image/jpeg:https://eadn-wc04-3360218.nxedge.io/wp-content/uploads/2025/07/513707710_122175108476357187_1881501774102188897_n.jpg
ORGANIZER;CN="Green Mountain Meditation Center (at Serenity Central)":MAILTO:GreenMountainMonk@gmail.com
END:VEVENT
BEGIN:VEVENT
DTSTART;TZID=America/New_York:20251010T160000
DTEND;TZID=America/New_York:20251010T173000
DTSTAMP:20260423T181715
CREATED:20250922T183532Z
LAST-MODIFIED:20251217T184440Z
UID:10004526-1760112000-1760117400@brookslibraryvt.org
SUMMARY:Introduction to Buddhist Mindfulness Meditation
DESCRIPTION:This offering will be led by Bhante Rathana\, a Buddhist monk originally from Sri Lanka and currently residing at Serenity Central of New England in Jacksonville\, Vermont. He has been dedicated to the path of Dhamma since the age of 13\, and his journey includes over two decades of monastic training\, study\, and teaching in Sri Lanka and the United States. \nAt these sessions\, Bhante will be offering practical guidance in breathing meditation (ānāpānasati)\, loving-kindness meditation (mettā bhāvanā)\, and walking meditation\, rooted in the original teachings of the Buddha as preserved in the Pāli Canon. His approach draws directly from early Buddhist texts\, focusing on mindfulness\, compassion\, and inner peace. \nWith gentle\, step-by-step instruction\, Bhante aims to help participants develop calm\, clarity\, and deeper awareness—whether you are new to meditation or wish to strengthen your practice.
URL:https://brookslibraryvt.org/event/introduction-to-buddhist-mindfulness-meditation/2025-10-10/
CATEGORIES:Adults,General
ATTACH;FMTTYPE=image/jpeg:https://eadn-wc04-3360218.nxedge.io/wp-content/uploads/2025/07/513707710_122175108476357187_1881501774102188897_n.jpg
ORGANIZER;CN="Green Mountain Meditation Center (at Serenity Central)":MAILTO:GreenMountainMonk@gmail.com
END:VEVENT
BEGIN:VEVENT
DTSTART;TZID=America/New_York:20251003T160000
DTEND;TZID=America/New_York:20251003T173000
DTSTAMP:20260423T181715
CREATED:20250922T183532Z
LAST-MODIFIED:20251217T184440Z
UID:10004525-1759507200-1759512600@brookslibraryvt.org
SUMMARY:Introduction to Buddhist Mindfulness Meditation
DESCRIPTION:This offering will be led by Bhante Rathana\, a Buddhist monk originally from Sri Lanka and currently residing at Serenity Central of New England in Jacksonville\, Vermont. He has been dedicated to the path of Dhamma since the age of 13\, and his journey includes over two decades of monastic training\, study\, and teaching in Sri Lanka and the United States. \nAt these sessions\, Bhante will be offering practical guidance in breathing meditation (ānāpānasati)\, loving-kindness meditation (mettā bhāvanā)\, and walking meditation\, rooted in the original teachings of the Buddha as preserved in the Pāli Canon. His approach draws directly from early Buddhist texts\, focusing on mindfulness\, compassion\, and inner peace. \nWith gentle\, step-by-step instruction\, Bhante aims to help participants develop calm\, clarity\, and deeper awareness—whether you are new to meditation or wish to strengthen your practice.
URL:https://brookslibraryvt.org/event/introduction-to-buddhist-mindfulness-meditation/2025-10-03/
CATEGORIES:Adults,General
ATTACH;FMTTYPE=image/jpeg:https://eadn-wc04-3360218.nxedge.io/wp-content/uploads/2025/07/513707710_122175108476357187_1881501774102188897_n.jpg
ORGANIZER;CN="Green Mountain Meditation Center (at Serenity Central)":MAILTO:GreenMountainMonk@gmail.com
END:VEVENT
BEGIN:VEVENT
DTSTART;TZID=America/New_York:20250926T160000
DTEND;TZID=America/New_York:20250926T180000
DTSTAMP:20260423T181715
CREATED:20250909T004328Z
LAST-MODIFIED:20250909T004342Z
UID:10004492-1758902400-1758909600@brookslibraryvt.org
SUMMARY:Buddhist Mindfulness Meditation - with Bhante
DESCRIPTION:This offering will be lead by Bhante Rathana\, a Buddhist monk originally from Sri Lanka and currently residing at Serenity Central of New England in Jacksonville\, Vermont. He has been dedicated to the path of Dhamma since the age of 13\, and his journey includes over two decades of monastic training\, study\, and teaching in Sri Lanka and the United States. \nAt these sessions\, Bhante will be offering practical guidance in breathing meditation (ānāpānasati)\, loving-kindness meditation (mettā bhāvanā)\, and walking meditation\, rooted in the original teachings of the Buddha as preserved in the Pāli Canon. His approach draws directly from early Buddhist texts\, focusing on mindfulness\, compassion\, and inner peace. \nWith gentle\, step-by-step instruction\, Bhante aims to help participants develop calm\, clarity\, and deeper awareness—whether you are new to meditation or wish to strengthen your practice.
URL:https://brookslibraryvt.org/event/buddhist-mindfulness-meditation-with-bhante/
LOCATION:Meeting Room A – Community Meeting Room\, 224 Main Street\, Brattleboro\, VT\, 05301\, United States
CATEGORIES:Adults,General
ATTACH;FMTTYPE=image/jpeg:https://eadn-wc04-3360218.nxedge.io/wp-content/uploads/2025/07/513707710_122175108476357187_1881501774102188897_n.jpg
ORGANIZER;CN="Green Mountain Meditation Center (at Serenity Central)":MAILTO:GreenMountainMonk@gmail.com
GEO:42.8553213;-72.5599024
X-APPLE-STRUCTURED-LOCATION;VALUE=URI;X-ADDRESS=Meeting Room A – Community Meeting Room 224 Main Street Brattleboro VT 05301 United States;X-APPLE-RADIUS=500;X-TITLE=224 Main Street:geo:-72.5599024,42.8553213
END:VEVENT
END:VCALENDAR