BEGIN:VCALENDAR
VERSION:2.0
PRODID:-//Brooks Memorial Library - Brattleboro VT - ECPv6.15.17.1//NONSGML v1.0//EN
CALSCALE:GREGORIAN
METHOD:PUBLISH
X-WR-CALNAME:Brooks Memorial Library - Brattleboro VT
X-ORIGINAL-URL:https://brookslibraryvt.org
X-WR-CALDESC:Events for Brooks Memorial Library - Brattleboro VT
REFRESH-INTERVAL;VALUE=DURATION:PT1H
X-Robots-Tag:noindex
X-PUBLISHED-TTL:PT1H
BEGIN:VTIMEZONE
TZID:America/New_York
BEGIN:DAYLIGHT
TZOFFSETFROM:-0500
TZOFFSETTO:-0400
TZNAME:EDT
DTSTART:20210314T070000
END:DAYLIGHT
BEGIN:STANDARD
TZOFFSETFROM:-0400
TZOFFSETTO:-0500
TZNAME:EST
DTSTART:20211107T060000
END:STANDARD
BEGIN:DAYLIGHT
TZOFFSETFROM:-0500
TZOFFSETTO:-0400
TZNAME:EDT
DTSTART:20220313T070000
END:DAYLIGHT
BEGIN:STANDARD
TZOFFSETFROM:-0400
TZOFFSETTO:-0500
TZNAME:EST
DTSTART:20221106T060000
END:STANDARD
BEGIN:DAYLIGHT
TZOFFSETFROM:-0500
TZOFFSETTO:-0400
TZNAME:EDT
DTSTART:20230312T070000
END:DAYLIGHT
BEGIN:STANDARD
TZOFFSETFROM:-0400
TZOFFSETTO:-0500
TZNAME:EST
DTSTART:20231105T060000
END:STANDARD
BEGIN:DAYLIGHT
TZOFFSETFROM:-0500
TZOFFSETTO:-0400
TZNAME:EDT
DTSTART:20240310T070000
END:DAYLIGHT
BEGIN:STANDARD
TZOFFSETFROM:-0400
TZOFFSETTO:-0500
TZNAME:EST
DTSTART:20241103T060000
END:STANDARD
BEGIN:DAYLIGHT
TZOFFSETFROM:-0500
TZOFFSETTO:-0400
TZNAME:EDT
DTSTART:20250309T070000
END:DAYLIGHT
BEGIN:STANDARD
TZOFFSETFROM:-0400
TZOFFSETTO:-0500
TZNAME:EST
DTSTART:20251102T060000
END:STANDARD
BEGIN:DAYLIGHT
TZOFFSETFROM:-0500
TZOFFSETTO:-0400
TZNAME:EDT
DTSTART:20260308T070000
END:DAYLIGHT
BEGIN:STANDARD
TZOFFSETFROM:-0400
TZOFFSETTO:-0500
TZNAME:EST
DTSTART:20261101T060000
END:STANDARD
END:VTIMEZONE
BEGIN:VEVENT
DTSTART;TZID=America/New_York:20250222T101500
DTEND;TZID=America/New_York:20250222T123000
DTSTAMP:20260424T100712
CREATED:20250213T205230Z
LAST-MODIFIED:20250213T205230Z
UID:10003996-1740219300-1740227400@brookslibraryvt.org
SUMMARY:Actors Theatre Playhouse Public Reading
DESCRIPTION:Staged reading of “Untethered” by Carol Mark
URL:https://brookslibraryvt.org/event/actors-theatre-playhouse-public-reading/
LOCATION:Meeting Room A – Community Meeting Room\, 224 Main Street\, Brattleboro\, VT\, 05301\, United States
CATEGORIES:General
ORGANIZER;CN="Jim Bombicino - Actors Theatre Playhouse":MAILTO:jbombicino@gmail.com
GEO:42.8553213;-72.5599024
X-APPLE-STRUCTURED-LOCATION;VALUE=URI;X-ADDRESS=Meeting Room A – Community Meeting Room 224 Main Street Brattleboro VT 05301 United States;X-APPLE-RADIUS=500;X-TITLE=224 Main Street:geo:-72.5599024,42.8553213
END:VEVENT
BEGIN:VEVENT
DTSTART;TZID=America/New_York:20250114T190000
DTEND;TZID=America/New_York:20250114T210000
DTSTAMP:20260424T100712
CREATED:20241220T200927Z
LAST-MODIFIED:20241220T200927Z
UID:10003748-1736881200-1736888400@brookslibraryvt.org
SUMMARY:Actors Theatre Open Auditions
DESCRIPTION:Auditions for the 10 Minute Play Festival
URL:https://brookslibraryvt.org/event/actors-theatre-open-auditions/2025-01-14/
LOCATION:Meeting Room A – Community Meeting Room\, 224 Main Street\, Brattleboro\, VT\, 05301\, United States
ORGANIZER;CN="Jim Bombicino - Actors Theatre Playhouse":MAILTO:jbombicino@gmail.com
GEO:42.8553213;-72.5599024
X-APPLE-STRUCTURED-LOCATION;VALUE=URI;X-ADDRESS=Meeting Room A – Community Meeting Room 224 Main Street Brattleboro VT 05301 United States;X-APPLE-RADIUS=500;X-TITLE=224 Main Street:geo:-72.5599024,42.8553213
END:VEVENT
BEGIN:VEVENT
DTSTART;TZID=America/New_York:20250113T183000
DTEND;TZID=America/New_York:20250113T203000
DTSTAMP:20260424T100712
CREATED:20241220T200927Z
LAST-MODIFIED:20241220T200927Z
UID:10003747-1736793000-1736800200@brookslibraryvt.org
SUMMARY:Actors Theatre Open Auditions
DESCRIPTION:Auditions for the 10 Minute Play Festival
URL:https://brookslibraryvt.org/event/actors-theatre-open-auditions/2025-01-13/
LOCATION:Meeting Room A – Community Meeting Room\, 224 Main Street\, Brattleboro\, VT\, 05301\, United States
ORGANIZER;CN="Jim Bombicino - Actors Theatre Playhouse":MAILTO:jbombicino@gmail.com
GEO:42.8553213;-72.5599024
X-APPLE-STRUCTURED-LOCATION;VALUE=URI;X-ADDRESS=Meeting Room A – Community Meeting Room 224 Main Street Brattleboro VT 05301 United States;X-APPLE-RADIUS=500;X-TITLE=224 Main Street:geo:-72.5599024,42.8553213
END:VEVENT
BEGIN:VEVENT
DTSTART;TZID=America/New_York:20240216T143000
DTEND;TZID=America/New_York:20240216T163000
DTSTAMP:20260424T100712
CREATED:20231215T193054Z
LAST-MODIFIED:20240216T193229Z
UID:10001780-1708093800-1708101000@brookslibraryvt.org
SUMMARY:Actors Theatre Playhouse - Open Auditions
DESCRIPTION:Open call for actors to read scripts and audition for the 10 Minute Play Festival and following events this season.
URL:https://brookslibraryvt.org/event/actors-theatre-playhouse-open-auditions/2024-02-16/
LOCATION:Meeting Room A – Community Meeting Room\, 224 Main Street\, Brattleboro\, VT\, 05301\, United States
CATEGORIES:General
ATTACH;FMTTYPE=image/png:https://eadn-wc04-3360218.nxedge.io/wp-content/uploads/2023/02/ATP.png
ORGANIZER;CN="Jim Bombicino - Actors Theatre Playhouse":MAILTO:jbombicino@gmail.com
GEO:42.8553213;-72.5599024
X-APPLE-STRUCTURED-LOCATION;VALUE=URI;X-ADDRESS=Meeting Room A – Community Meeting Room 224 Main Street Brattleboro VT 05301 United States;X-APPLE-RADIUS=500;X-TITLE=224 Main Street:geo:-72.5599024,42.8553213
END:VEVENT
BEGIN:VEVENT
DTSTART;TZID=America/New_York:20240210T140000
DTEND;TZID=America/New_York:20240210T170000
DTSTAMP:20260424T100712
CREATED:20231223T211724Z
LAST-MODIFIED:20231223T211725Z
UID:10001622-1707573600-1707584400@brookslibraryvt.org
SUMMARY:Actors Theatre Playhouse - Open Auditions
DESCRIPTION:Open call for actors to read scripts and audition for the 10 Minute Play Festival and following events this season.
URL:https://brookslibraryvt.org/event/actors-theatre-playhouse-open-auditions-2/
LOCATION:Meeting Room A – Community Meeting Room\, 224 Main Street\, Brattleboro\, VT\, 05301\, United States
CATEGORIES:General
ATTACH;FMTTYPE=image/png:https://eadn-wc04-3360218.nxedge.io/wp-content/uploads/2023/02/ATP.png
ORGANIZER;CN="Jim Bombicino - Actors Theatre Playhouse":MAILTO:jbombicino@gmail.com
GEO:42.8553213;-72.5599024
X-APPLE-STRUCTURED-LOCATION;VALUE=URI;X-ADDRESS=Meeting Room A – Community Meeting Room 224 Main Street Brattleboro VT 05301 United States;X-APPLE-RADIUS=500;X-TITLE=224 Main Street:geo:-72.5599024,42.8553213
END:VEVENT
BEGIN:VEVENT
DTSTART;TZID=America/New_York:20240210T100000
DTEND;TZID=America/New_York:20240210T130000
DTSTAMP:20260424T100712
CREATED:20231215T193054Z
LAST-MODIFIED:20240216T193229Z
UID:10001779-1707559200-1707570000@brookslibraryvt.org
SUMMARY:Actors Theatre Playhouse - Open Auditions
DESCRIPTION:Open call for actors to read scripts and audition for the 10 Minute Play Festival and following events this season.
URL:https://brookslibraryvt.org/event/actors-theatre-playhouse-open-auditions/2024-02-10/
LOCATION:Meeting Room A – Community Meeting Room\, 224 Main Street\, Brattleboro\, VT\, 05301\, United States
CATEGORIES:General
ATTACH;FMTTYPE=image/png:https://eadn-wc04-3360218.nxedge.io/wp-content/uploads/2023/02/ATP.png
ORGANIZER;CN="Jim Bombicino - Actors Theatre Playhouse":MAILTO:jbombicino@gmail.com
GEO:42.8553213;-72.5599024
X-APPLE-STRUCTURED-LOCATION;VALUE=URI;X-ADDRESS=Meeting Room A – Community Meeting Room 224 Main Street Brattleboro VT 05301 United States;X-APPLE-RADIUS=500;X-TITLE=224 Main Street:geo:-72.5599024,42.8553213
END:VEVENT
BEGIN:VEVENT
DTSTART;TZID=America/New_York:20240205T180000
DTEND;TZID=America/New_York:20240205T210000
DTSTAMP:20260424T100712
CREATED:20231215T193054Z
LAST-MODIFIED:20240216T193229Z
UID:10001623-1707156000-1707166800@brookslibraryvt.org
SUMMARY:Actors Theatre Playhouse - Open Auditions
DESCRIPTION:Open call for actors to read scripts and audition for the 10 Minute Play Festival and following events this season.
URL:https://brookslibraryvt.org/event/actors-theatre-playhouse-open-auditions/2024-02-05/
LOCATION:Meeting Room A – Community Meeting Room\, 224 Main Street\, Brattleboro\, VT\, 05301\, United States
CATEGORIES:General
ATTACH;FMTTYPE=image/png:https://eadn-wc04-3360218.nxedge.io/wp-content/uploads/2023/02/ATP.png
ORGANIZER;CN="Jim Bombicino - Actors Theatre Playhouse":MAILTO:jbombicino@gmail.com
GEO:42.8553213;-72.5599024
X-APPLE-STRUCTURED-LOCATION;VALUE=URI;X-ADDRESS=Meeting Room A – Community Meeting Room 224 Main Street Brattleboro VT 05301 United States;X-APPLE-RADIUS=500;X-TITLE=224 Main Street:geo:-72.5599024,42.8553213
END:VEVENT
BEGIN:VEVENT
DTSTART;TZID=America/New_York:20230213T183000
DTEND;TZID=America/New_York:20230213T210000
DTSTAMP:20260424T100712
CREATED:20230204T184347Z
LAST-MODIFIED:20230204T185833Z
UID:10000680-1676313000-1676322000@brookslibraryvt.org
SUMMARY:Actors Theatre Playhouse 10-Minute Play Auditions
DESCRIPTION:Open Auditions\n  \n10-Minute Play Festival\n  \nOn Saturday Feb. 4th from 10 am-1:30 pm and Monday Feb. 13th from 6:30-9 pm\, The Actors Theatre Playhouse in West Chesterfield\, N.H. will hold Open Auditions for its Ten Minute Play Festival for nine performances on Thursdays\, Fridays\, and Saturdays\,  June 8th – June 24th\, 2023. \n  \nAudition Location: Brooks Memorial Library Community Room\, 224 Main Street\, Brattleboro\, VT \n  \nThis year’s Festival winners were selected from national submissions of over 250 ten minute plays. The plays that have made the final cut have gone thru a vigorous screening by all our directors and we look forward to bringing these seven plays into our production.  Read them and see for yourself! \n  \nCopies are available as PDF files for your perusal by email from producer Jim Bombicino (jbombicino@comcast.net). \n  \nIf you are interested in auditioning\, please email Jim or call/text 802-274-0503 to schedule an appointment for a given time on either date.  If you are unable to attend either audition session\, you may contact Jim to make other arrangements. \n  \nSince the inception of the Actors Theatre Ten Minute Play Festival twelve years ago\, we are proud to have created many acting and directing opportunities for seasoned actors and newcomers alike.  Actor participation and enthusiasm are key to the success of the program and we take care to cast actors of various experiences\, ages\, and types. \n  \nAt the audition\, you will be asked to read from the 10-minute plays that interest you. Directors may ask you to read for other plays as well.  You may audition for as many plays as you like and you may be cast in more than one play. \n  \nRehearsals for the 10-minute plays will most likely begin with a read through in March and rehearsals in May\, with the most intensely scheduled rehearsal time being the three weeks prior to the opening. The directors this year are:  Wendy Almeida\, Jim Bombicino\, Lionel Chute\, Bob Kramsky\, Brenda Seitz\, Lin Snider\, and Ben Stockman.  They will schedule rehearsals for their respective plays.  You should plan to be available on call to rehearse during the final three weeks before opening. Tech week: June 3rd  – June 8th. \n  \nGrab a friend to bring to the audition\, or share this notice with anyone who might be interested in acting or working behind the scenes! \n  \nAgain\, email jbombicino@comcast.net to preview plays \nand book your audition date for either Saturday Feb. 4th or Monday Feb. 13th. \n  \nWe hope you enjoy reading these GREAT NEW PLAYS\, seven of which will be chosen for production following the casting process.  We hope that you are inspired to participate! \n  \nOde to Clouds \nWritten by Carol Mark \nA fifty something ‘hippy’ helps a distraught young newcomer reframe her recent breakup by pointing out images in the clouds….from the ledge of a NY apartment building! \nRoles:  Joni – 50s+\, Stacey – 20s. \n  \nAnd Twice on Sunday \nWritten by Brad Sytsma \nA comedic spin on one of the most basic elements of spycraft….the exchange. \nRoles:  2 Agents – young man\, man or woman\, 2 Trench coats  – man or woman. \n  \nIt’s About Forgiveness \nWritten by Albi Gorn \nA reconciliation beyond the pearly gates…can Myrna forgive Herman for the ultimate sacrifice? \nRoles: Man and woman  50’s+ \n  \nOut From Under With Mary \nWritten by Chris Shaw Swanson \nWhile waiting for a drug test at an inner city methadone clinic\, \na suburban housewife realizes there is more to homeless Mary than meets the eye…and ear. \nRoles: Diane – 30’s\, Mary – 50s+ \n  \nTorrid Taxes \nWritten by Laurie Spector \nAs the tax filing deadline rapidly approaches\, a beautiful woman with a dark secret \nchanges the world of a dedicated CPA in ways he never calculated! \nRoles: Chance (man) – 30s-40s\, Desiree (woman) 20s-30s. \n  \nSpeed Date \nWritten by Carol Mark \nCan you find love in 2 minutes? Crazy. How about eight? Maybe not so crazy. \nRoles: Pam – 30s-50s\, Tony – 30s-50s\, Sam – bartender. \n  \nHomeland Security \nWritten by Mathew Widman \nA black comedy about who we watch\, and who watches us. \nBig government and big business conspire to save American in the digital age. \nRoles:  man and woman 20’s-30s\, man and woman 30s-50s. \n  \nIndependence Day \nWritten by Rhea MacCallum \nA mom and her adult daughter share laughter and tears \nas they navigate the difficult road to terminal illness. \nRoles:  Alice – frail\, 60s+\, Elizabeth – 30s-40s \n  \nFighting Mr. Right \nWritten by Barbara Lindsay \nDoes Marla really have the best strategy for finding Mr. Right? \nRoles:  Marla and Joel – 20s-30s. \n  \nLeaving Nic \nWritten by Connie Schindewolf \nSue struggles to break up with her former love….Nic(-otine).  A comedy. \nRoles:  Sue and Nic – 30s-50s
URL:https://brookslibraryvt.org/event/actors-theatre-playhouse-10-minute-play-auditions/
LOCATION:Meeting Room A – Community Meeting Room\, 224 Main Street\, Brattleboro\, VT\, 05301\, United States
CATEGORIES:General
ORGANIZER;CN="Jim Bombicino - Actors Theatre Playhouse":MAILTO:jbombicino@gmail.com
GEO:42.8553213;-72.5599024
X-APPLE-STRUCTURED-LOCATION;VALUE=URI;X-ADDRESS=Meeting Room A – Community Meeting Room 224 Main Street Brattleboro VT 05301 United States;X-APPLE-RADIUS=500;X-TITLE=224 Main Street:geo:-72.5599024,42.8553213
END:VEVENT
BEGIN:VEVENT
DTSTART;TZID=America/New_York:20230110T190000
DTEND;TZID=America/New_York:20230110T210000
DTSTAMP:20260424T100712
CREATED:20230104T195155Z
LAST-MODIFIED:20230104T195155Z
UID:10000309-1673377200-1673384400@brookslibraryvt.org
SUMMARY:Actors Theatre Playhouse: 10 Minute Play Festival Meeting
DESCRIPTION:An open meeting for prospective directors & interested people where scripts will be read and discussed
URL:https://brookslibraryvt.org/event/actors-theatre-playhouse-10-minute-play-festival-meeting/2023-01-10/
LOCATION:Meeting Room A – Community Meeting Room\, 224 Main Street\, Brattleboro\, VT\, 05301\, United States
CATEGORIES:General
ATTACH;FMTTYPE=image/png:https://eadn-wc04-3360218.nxedge.io/wp-content/uploads/2022/04/Actors-Theatre-Playhouse-Event.png
ORGANIZER;CN="Jim Bombicino - Actors Theatre Playhouse":MAILTO:jbombicino@gmail.com
GEO:42.8553213;-72.5599024
X-APPLE-STRUCTURED-LOCATION;VALUE=URI;X-ADDRESS=Meeting Room A – Community Meeting Room 224 Main Street Brattleboro VT 05301 United States;X-APPLE-RADIUS=500;X-TITLE=224 Main Street:geo:-72.5599024,42.8553213
END:VEVENT
BEGIN:VEVENT
DTSTART;TZID=America/New_York:20230107T100000
DTEND;TZID=America/New_York:20230107T130000
DTSTAMP:20260424T100712
CREATED:20230104T195155Z
LAST-MODIFIED:20230104T195155Z
UID:10000308-1673085600-1673096400@brookslibraryvt.org
SUMMARY:Actors Theatre Playhouse: 10 Minute Play Festival Meeting
DESCRIPTION:An open meeting for prospective directors & interested people where scripts will be read and discussed
URL:https://brookslibraryvt.org/event/actors-theatre-playhouse-10-minute-play-festival-meeting/2023-01-07/
LOCATION:Meeting Room A – Community Meeting Room\, 224 Main Street\, Brattleboro\, VT\, 05301\, United States
CATEGORIES:General
ATTACH;FMTTYPE=image/png:https://eadn-wc04-3360218.nxedge.io/wp-content/uploads/2022/04/Actors-Theatre-Playhouse-Event.png
ORGANIZER;CN="Jim Bombicino - Actors Theatre Playhouse":MAILTO:jbombicino@gmail.com
GEO:42.8553213;-72.5599024
X-APPLE-STRUCTURED-LOCATION;VALUE=URI;X-ADDRESS=Meeting Room A – Community Meeting Room 224 Main Street Brattleboro VT 05301 United States;X-APPLE-RADIUS=500;X-TITLE=224 Main Street:geo:-72.5599024,42.8553213
END:VEVENT
BEGIN:VEVENT
DTSTART;TZID=America/New_York:20220426T180000
DTEND;TZID=America/New_York:20220426T200000
DTSTAMP:20260424T100712
CREATED:20220412T210226Z
LAST-MODIFIED:20220412T210226Z
UID:10000318-1650996000-1651003200@brookslibraryvt.org
SUMMARY:10 Minute Play Festival Auditions
DESCRIPTION:Actors Theatre Playhouse presents open auditions for plays to be performed July 2022.
URL:https://brookslibraryvt.org/event/10-minute-play-festival-auditions/2022-04-26/
LOCATION:Meeting Room A – Community Meeting Room\, 224 Main Street\, Brattleboro\, VT\, 05301\, United States
CATEGORIES:General
ATTACH;FMTTYPE=image/png:https://eadn-wc04-3360218.nxedge.io/wp-content/uploads/2022/04/Actors-Theatre-Playhouse-Event.png
ORGANIZER;CN="Jim Bombicino - Actors Theatre Playhouse":MAILTO:jbombicino@gmail.com
GEO:42.8553213;-72.5599024
X-APPLE-STRUCTURED-LOCATION;VALUE=URI;X-ADDRESS=Meeting Room A – Community Meeting Room 224 Main Street Brattleboro VT 05301 United States;X-APPLE-RADIUS=500;X-TITLE=224 Main Street:geo:-72.5599024,42.8553213
END:VEVENT
BEGIN:VEVENT
DTSTART;TZID=America/New_York:20220423T100000
DTEND;TZID=America/New_York:20220423T150000
DTSTAMP:20260424T100712
CREATED:20220412T210226Z
LAST-MODIFIED:20220412T210226Z
UID:10000317-1650708000-1650726000@brookslibraryvt.org
SUMMARY:10 Minute Play Festival Auditions
DESCRIPTION:Actors Theatre Playhouse presents open auditions for plays to be performed July 2022.
URL:https://brookslibraryvt.org/event/10-minute-play-festival-auditions/2022-04-23/
LOCATION:Meeting Room A – Community Meeting Room\, 224 Main Street\, Brattleboro\, VT\, 05301\, United States
CATEGORIES:General
ATTACH;FMTTYPE=image/png:https://eadn-wc04-3360218.nxedge.io/wp-content/uploads/2022/04/Actors-Theatre-Playhouse-Event.png
ORGANIZER;CN="Jim Bombicino - Actors Theatre Playhouse":MAILTO:jbombicino@gmail.com
GEO:42.8553213;-72.5599024
X-APPLE-STRUCTURED-LOCATION;VALUE=URI;X-ADDRESS=Meeting Room A – Community Meeting Room 224 Main Street Brattleboro VT 05301 United States;X-APPLE-RADIUS=500;X-TITLE=224 Main Street:geo:-72.5599024,42.8553213
END:VEVENT
END:VCALENDAR