BEGIN:VCALENDAR
VERSION:2.0
PRODID:-//Brooks Memorial Library - Brattleboro VT - ECPv6.15.17.1//NONSGML v1.0//EN
CALSCALE:GREGORIAN
METHOD:PUBLISH
X-WR-CALNAME:Brooks Memorial Library - Brattleboro VT
X-ORIGINAL-URL:https://brookslibraryvt.org
X-WR-CALDESC:Events for Brooks Memorial Library - Brattleboro VT
REFRESH-INTERVAL;VALUE=DURATION:PT1H
X-Robots-Tag:noindex
X-PUBLISHED-TTL:PT1H
BEGIN:VTIMEZONE
TZID:America/New_York
BEGIN:DAYLIGHT
TZOFFSETFROM:-0500
TZOFFSETTO:-0400
TZNAME:EDT
DTSTART:20230312T070000
END:DAYLIGHT
BEGIN:STANDARD
TZOFFSETFROM:-0400
TZOFFSETTO:-0500
TZNAME:EST
DTSTART:20231105T060000
END:STANDARD
BEGIN:DAYLIGHT
TZOFFSETFROM:-0500
TZOFFSETTO:-0400
TZNAME:EDT
DTSTART:20240310T070000
END:DAYLIGHT
BEGIN:STANDARD
TZOFFSETFROM:-0400
TZOFFSETTO:-0500
TZNAME:EST
DTSTART:20241103T060000
END:STANDARD
BEGIN:DAYLIGHT
TZOFFSETFROM:-0500
TZOFFSETTO:-0400
TZNAME:EDT
DTSTART:20250309T070000
END:DAYLIGHT
BEGIN:STANDARD
TZOFFSETFROM:-0400
TZOFFSETTO:-0500
TZNAME:EST
DTSTART:20251102T060000
END:STANDARD
END:VTIMEZONE
BEGIN:VEVENT
DTSTART;TZID=America/New_York:20241221T101500
DTEND;TZID=America/New_York:20241221T120000
DTSTAMP:20260424T091134
CREATED:20241216T193955Z
LAST-MODIFIED:20241216T194029Z
UID:10003713-1734776100-1734782400@brookslibraryvt.org
SUMMARY:Stocking Stuffer Swap
DESCRIPTION:Free gently used and new small gifts for kids (and the young at heart). Good old fashion mutual aid to keep toys out of the landfill\, keep the holiday affordable\, and for your last minute present needs! Everyone is welcome to pick up gifts!
URL:https://brookslibraryvt.org/event/stocking-stuffer-swap/
ORGANIZER;CN="Katie Wilson":MAILTO:katiejwilson@gmail.com
END:VEVENT
END:VCALENDAR