BEGIN:VCALENDAR
VERSION:2.0
PRODID:-//Brooks Memorial Library - Brattleboro VT - ECPv6.15.17.1//NONSGML v1.0//EN
CALSCALE:GREGORIAN
METHOD:PUBLISH
X-WR-CALNAME:Brooks Memorial Library - Brattleboro VT
X-ORIGINAL-URL:https://brookslibraryvt.org
X-WR-CALDESC:Events for Brooks Memorial Library - Brattleboro VT
REFRESH-INTERVAL;VALUE=DURATION:PT1H
X-Robots-Tag:noindex
X-PUBLISHED-TTL:PT1H
BEGIN:VTIMEZONE
TZID:America/New_York
BEGIN:DAYLIGHT
TZOFFSETFROM:-0500
TZOFFSETTO:-0400
TZNAME:EDT
DTSTART:20240310T070000
END:DAYLIGHT
BEGIN:STANDARD
TZOFFSETFROM:-0400
TZOFFSETTO:-0500
TZNAME:EST
DTSTART:20241103T060000
END:STANDARD
BEGIN:DAYLIGHT
TZOFFSETFROM:-0500
TZOFFSETTO:-0400
TZNAME:EDT
DTSTART:20250309T070000
END:DAYLIGHT
BEGIN:STANDARD
TZOFFSETFROM:-0400
TZOFFSETTO:-0500
TZNAME:EST
DTSTART:20251102T060000
END:STANDARD
BEGIN:DAYLIGHT
TZOFFSETFROM:-0500
TZOFFSETTO:-0400
TZNAME:EDT
DTSTART:20260308T070000
END:DAYLIGHT
BEGIN:STANDARD
TZOFFSETFROM:-0400
TZOFFSETTO:-0500
TZNAME:EST
DTSTART:20261101T060000
END:STANDARD
END:VTIMEZONE
BEGIN:VEVENT
DTSTART;TZID=America/New_York:20250908T180000
DTEND;TZID=America/New_York:20250908T193000
DTSTAMP:20260424T193037
CREATED:20250712T163439Z
LAST-MODIFIED:20250811T184519Z
UID:10004437-1757354400-1757359800@brookslibraryvt.org
SUMMARY:Becoming Wolf: The Eastern Coyote in New England
DESCRIPTION:An eastern coyote is defined as much by its western coyote ancestry as by the DNA contribution from the eastern wolf. Coyotes in the northeast vary physically and behaviorally from their smaller western relatives while still maintaining their incredible adaptability. This program delves into the ecology and behavior of this creature\, its indefatigability\, and how humans must adapt to live with the coyote. \nOn the horizon\, however\, is a native carnivore that fled the northeast during wolf removal and now may be trying to return: The eastern wolf. A look-alike to the coyote\, it has been killed mistakenly for its similarity of appearance to the coyote. We’ll talk about how the wolf and coyote might negotiate a truce in the northeast and how we might do the same.  This program is sponsored by Protect Our Wildlife (https://www.protectourwildlifevt.org/). \n  \nAbout Christine Schadler\, presenter: \nChris’ interest in wild canids began in the 1970s as a volunteer at Wolf Park in Battleground\, Indiana. This opportunity and others inspired an eventual Masters in Conservation Biology at Antioch University in Keene. Her thesis focused on the Natural Recovery of the Eastern Timber Wolf in Michigan. Chris lived in Michigan and Minnesota during the early 1980s where her research into the gray wolf continued and her speaking career began. \nBeginning in the early 1990s\, Chris taught Forestry\, Wolf Ecology and Environmental Conservation in the Natural Resources Department at UNH. She also instructed and mentored adult degree candidates in the UNH System at Granite State College. \nWhile wolf recovery was the focus of her early work\, Chris’ attention shifted to the Eastern Coyote when she and her flock of sheep moved to New England. She is now the NH and VT Representative for Project Coyote\, a national organization promoting coexistence with coyotes. Chris (with John Harrigan) co-founded the NH Wildlife Coalition which aims to defend predators. She currently Chairs the Webster Conservation Commission and is a member of the Northeast Wolf Recovery Alliance.
URL:https://brookslibraryvt.org/event/becoming-wolf-the-eastern-coyote-in-new-england/
LOCATION:Meeting Room A – Community Meeting Room\, 224 Main Street\, Brattleboro\, VT\, 05301\, United States
CATEGORIES:Adults,General
ATTACH;FMTTYPE=image/png:https://eadn-wc04-3360218.nxedge.io/wp-content/uploads/2025/07/coyface.png
GEO:42.8553213;-72.5599024
X-APPLE-STRUCTURED-LOCATION;VALUE=URI;X-ADDRESS=Meeting Room A – Community Meeting Room 224 Main Street Brattleboro VT 05301 United States;X-APPLE-RADIUS=500;X-TITLE=224 Main Street:geo:-72.5599024,42.8553213
END:VEVENT
END:VCALENDAR