BEGIN:VCALENDAR
VERSION:2.0
PRODID:-//Brooks Memorial Library - Brattleboro VT - ECPv6.15.17.1//NONSGML v1.0//EN
CALSCALE:GREGORIAN
METHOD:PUBLISH
X-ORIGINAL-URL:https://brookslibraryvt.org
X-WR-CALDESC:Events for Brooks Memorial Library - Brattleboro VT
REFRESH-INTERVAL;VALUE=DURATION:PT1H
X-Robots-Tag:noindex
X-PUBLISHED-TTL:PT1H
BEGIN:VTIMEZONE
TZID:America/New_York
BEGIN:DAYLIGHT
TZOFFSETFROM:-0500
TZOFFSETTO:-0400
TZNAME:EDT
DTSTART:20240310T070000
END:DAYLIGHT
BEGIN:STANDARD
TZOFFSETFROM:-0400
TZOFFSETTO:-0500
TZNAME:EST
DTSTART:20241103T060000
END:STANDARD
BEGIN:DAYLIGHT
TZOFFSETFROM:-0500
TZOFFSETTO:-0400
TZNAME:EDT
DTSTART:20250309T070000
END:DAYLIGHT
BEGIN:STANDARD
TZOFFSETFROM:-0400
TZOFFSETTO:-0500
TZNAME:EST
DTSTART:20251102T060000
END:STANDARD
BEGIN:DAYLIGHT
TZOFFSETFROM:-0500
TZOFFSETTO:-0400
TZNAME:EDT
DTSTART:20260308T070000
END:DAYLIGHT
BEGIN:STANDARD
TZOFFSETFROM:-0400
TZOFFSETTO:-0500
TZNAME:EST
DTSTART:20261101T060000
END:STANDARD
END:VTIMEZONE
BEGIN:VEVENT
DTSTART;TZID=America/New_York:20250520T190000
DTEND;TZID=America/New_York:20250520T203000
DTSTAMP:20260423T183618
CREATED:20250430T185636Z
LAST-MODIFIED:20250430T195651Z
UID:10004210-1747767600-1747773000@brookslibraryvt.org
SUMMARY:The Resplendent Quetzal: Tourism and Land Use in Costa Rica - with Dr. Alan Poole
DESCRIPTION:This joint program\, co-sponsored by Brooks Memorial Library and Southeastern Vermont Audubon Society (SVAS)\, provides an accessible\, well-illustrated look at the life history of the Resplendent Quetzal — a dazzling\, legendary bird of the highland forests of Central America. Aztec and Mayan cultures revered this quetzal\, and today’s bird-watchers\, thousands of whom visit quetzal forests each year\, are only slightly less in awe. \nDr. Alan Poole\, the author of a recently published book on Resplendent Quetzals (Cornell Univ. Press\, 2023)\, will describe through the nesting ecology of this bird\, its role in Mayan and Aztec religions\, and how it fits into the increasingly threatened cloud forests that sustain it. The talk will also take a look at what lies ahead for this (and other) quetzals — how conservation efforts are giving them a boost\, and what threats Mesoamerican cloud forests are facing. \nAbove all this talk will examine land use in Central America\, especially Costa Rica\, through a quetzal lens — no species does more to bring current land use trends in this region into focus. Understanding these trends is key to maintaining the viability of highland tropical forests in the Americas\, and the quetzals that depend on them. \n++++++++++++++++++++++++++++++++++++++++++++++++ \nALAN POOLE\, an Associate of the Cornell Lab of Ornithology\, was editor of the Birds of North America life history series (18 volumes\, 18\,000 pages) for 22 years. He lives along the coast of southeastern Massachusetts\, and spends winters in the highlands of Costa Rica\, where quetzals are a highlight. \n++++++++++++++++++++++++++++++++++++++++++++++++ \nNote: This program will be at 7PM on Tuesday\, May 20 in the Main Reading Room\, and will take place instead of the monthly SVAS meeting.
URL:https://brookslibraryvt.org/event/the-resplendent-quetzal-tourism-and-land-use-in-costa-rica-with-dr-alan-poole/
LOCATION:Main Reading Room
CATEGORIES:Adults,General
ATTACH;FMTTYPE=image/png:https://eadn-wc04-3360218.nxedge.io/wp-content/uploads/2025/04/RQ-pair-copy.png
ORGANIZER;CN="Southeast Vermont Audubon Society":MAILTO:HSB@sover.net
GEO:42.8553213;-72.5599024
END:VEVENT
END:VCALENDAR