BEGIN:VCALENDAR
VERSION:2.0
PRODID:-//Brooks Memorial Library - Brattleboro VT - ECPv6.15.17.1//NONSGML v1.0//EN
CALSCALE:GREGORIAN
METHOD:PUBLISH
X-WR-CALNAME:Brooks Memorial Library - Brattleboro VT
X-ORIGINAL-URL:https://brookslibraryvt.org
X-WR-CALDESC:Events for Brooks Memorial Library - Brattleboro VT
REFRESH-INTERVAL;VALUE=DURATION:PT1H
X-Robots-Tag:noindex
X-PUBLISHED-TTL:PT1H
BEGIN:VTIMEZONE
TZID:America/New_York
BEGIN:DAYLIGHT
TZOFFSETFROM:-0500
TZOFFSETTO:-0400
TZNAME:EDT
DTSTART:20240310T070000
END:DAYLIGHT
BEGIN:STANDARD
TZOFFSETFROM:-0400
TZOFFSETTO:-0500
TZNAME:EST
DTSTART:20241103T060000
END:STANDARD
BEGIN:DAYLIGHT
TZOFFSETFROM:-0500
TZOFFSETTO:-0400
TZNAME:EDT
DTSTART:20250309T070000
END:DAYLIGHT
BEGIN:STANDARD
TZOFFSETFROM:-0400
TZOFFSETTO:-0500
TZNAME:EST
DTSTART:20251102T060000
END:STANDARD
BEGIN:DAYLIGHT
TZOFFSETFROM:-0500
TZOFFSETTO:-0400
TZNAME:EDT
DTSTART:20260308T070000
END:DAYLIGHT
BEGIN:STANDARD
TZOFFSETFROM:-0400
TZOFFSETTO:-0500
TZNAME:EST
DTSTART:20261101T060000
END:STANDARD
END:VTIMEZONE
BEGIN:VEVENT
DTSTART;TZID=America/New_York:20250716T180000
DTEND;TZID=America/New_York:20250716T193000
DTSTAMP:20260424T052548
CREATED:20250714T192347Z
LAST-MODIFIED:20250714T192347Z
UID:10004438-1752688800-1752694200@brookslibraryvt.org
SUMMARY:Report-back from the Global March to Gaza
DESCRIPTION:On June 13th\, thousands of people from across the globe gathered in Cairo to march to the border with Gaza and break the Israeli siege and genocide against the people of Gaza…or at least they tried to. The Egyptian regime came down hard on organizers and participants\, thwarting their efforts\, subjecting them to surveillance\, arrests\, beatings\, kidnappings\, and deportation\, preventing them from even peaceably assembling in Cairo. \nBrattleboro resident Fhar Miess was part of the US contingent of the Global March to Gaza and will report back on his experiences there and lessons for organizing in repressive conditions that seem headed our way here. Sumer Mobarak from Washington DC and Lana Bilbo from Kaua’i for Palestine and the Hawaii pod of JVP will also be joining remotely to share their experiences with the March. \nFhar’s blog post reflecting on the Global March to Gaza is here. \nThis is a hybrid event. Masks are requested in-person. \nZoom link will be shared with registrants before the event. Registration can be found here.
URL:https://brookslibraryvt.org/event/report-back-from-the-global-march-to-gaza/
LOCATION:Meeting Room A – Community Meeting Room\, 224 Main Street\, Brattleboro\, VT\, 05301\, United States
CATEGORIES:Adults,General
ATTACH;FMTTYPE=image/png:https://eadn-wc04-3360218.nxedge.io/wp-content/uploads/2025/07/GMTG.png
ORGANIZER;CN="Southern Vermont for Palestine / Jewish Voice for Peace VT/NH":MAILTO:info@sovt4palestine.org
GEO:42.8553213;-72.5599024
X-APPLE-STRUCTURED-LOCATION;VALUE=URI;X-ADDRESS=Meeting Room A – Community Meeting Room 224 Main Street Brattleboro VT 05301 United States;X-APPLE-RADIUS=500;X-TITLE=224 Main Street:geo:-72.5599024,42.8553213
END:VEVENT
END:VCALENDAR