BEGIN:VCALENDAR
VERSION:2.0
PRODID:-//Brooks Memorial Library - Brattleboro VT - ECPv6.15.17.1//NONSGML v1.0//EN
CALSCALE:GREGORIAN
METHOD:PUBLISH
X-WR-CALNAME:Brooks Memorial Library - Brattleboro VT
X-ORIGINAL-URL:https://brookslibraryvt.org
X-WR-CALDESC:Events for Brooks Memorial Library - Brattleboro VT
REFRESH-INTERVAL;VALUE=DURATION:PT1H
X-Robots-Tag:noindex
X-PUBLISHED-TTL:PT1H
BEGIN:VTIMEZONE
TZID:America/New_York
BEGIN:DAYLIGHT
TZOFFSETFROM:-0500
TZOFFSETTO:-0400
TZNAME:EDT
DTSTART:20240310T070000
END:DAYLIGHT
BEGIN:STANDARD
TZOFFSETFROM:-0400
TZOFFSETTO:-0500
TZNAME:EST
DTSTART:20241103T060000
END:STANDARD
BEGIN:DAYLIGHT
TZOFFSETFROM:-0500
TZOFFSETTO:-0400
TZNAME:EDT
DTSTART:20250309T070000
END:DAYLIGHT
BEGIN:STANDARD
TZOFFSETFROM:-0400
TZOFFSETTO:-0500
TZNAME:EST
DTSTART:20251102T060000
END:STANDARD
BEGIN:DAYLIGHT
TZOFFSETFROM:-0500
TZOFFSETTO:-0400
TZNAME:EDT
DTSTART:20260308T070000
END:DAYLIGHT
BEGIN:STANDARD
TZOFFSETFROM:-0400
TZOFFSETTO:-0500
TZNAME:EST
DTSTART:20261101T060000
END:STANDARD
END:VTIMEZONE
BEGIN:VEVENT
DTSTART;TZID=America/New_York:20250516T160000
DTEND;TZID=America/New_York:20250516T174500
DTSTAMP:20260424T084919
CREATED:20250428T175612Z
LAST-MODIFIED:20250428T175612Z
UID:10004207-1747411200-1747417500@brookslibraryvt.org
SUMMARY:Should I Shoot
DESCRIPTION:“Should I Shoot?” is focused on developing an understanding of Use of Force as a whole. While we always suggest you seek Legal Counsel\, Use of Force has similar theory in law state to state. We cover Reasonable Force\, Deadly Force\, How Prosecutors Evaluate your Case\, Defense of Your Home and Property.
URL:https://brookslibraryvt.org/event/should-i-shoot/
LOCATION:Meeting Room A – Community Meeting Room\, 224 Main Street\, Brattleboro\, VT\, 05301\, United States
ATTACH;FMTTYPE=image/png:https://eadn-wc04-3360218.nxedge.io/wp-content/uploads/2025/04/united-states-concealed-carry-association-uscca-logo-png_seeklogo-394800.png
ORGANIZER;CN="USCCA":MAILTO:tyler.p@deltadefense.com
GEO:42.8553213;-72.5599024
X-APPLE-STRUCTURED-LOCATION;VALUE=URI;X-ADDRESS=Meeting Room A – Community Meeting Room 224 Main Street Brattleboro VT 05301 United States;X-APPLE-RADIUS=500;X-TITLE=224 Main Street:geo:-72.5599024,42.8553213
END:VEVENT
BEGIN:VEVENT
DTSTART;TZID=America/New_York:20250515T160000
DTEND;TZID=America/New_York:20250515T174500
DTSTAMP:20260424T084919
CREATED:20250428T175255Z
LAST-MODIFIED:20250428T175255Z
UID:10004206-1747324800-1747331100@brookslibraryvt.org
SUMMARY:Developing A Personal and Home Protection Plan
DESCRIPTION:What You’ll Learn: \nAre you prepared for the unthinkable: an intrusion into your home? Not In My House is a comprehensive course designed to provide you with tools and tips on staying safe when you’re out and about in public\, as well as remaining safe when you return home. Learn some simple best practices so that you can minimize the risk of becoming a victim.
URL:https://brookslibraryvt.org/event/developing-a-personal-and-home-protection-plan/
LOCATION:Meeting Room A – Community Meeting Room\, 224 Main Street\, Brattleboro\, VT\, 05301\, United States
ATTACH;FMTTYPE=image/png:https://eadn-wc04-3360218.nxedge.io/wp-content/uploads/2025/04/united-states-concealed-carry-association-uscca-logo-png_seeklogo-394800.png
ORGANIZER;CN="USCCA":MAILTO:tyler.p@deltadefense.com
GEO:42.8553213;-72.5599024
X-APPLE-STRUCTURED-LOCATION;VALUE=URI;X-ADDRESS=Meeting Room A – Community Meeting Room 224 Main Street Brattleboro VT 05301 United States;X-APPLE-RADIUS=500;X-TITLE=224 Main Street:geo:-72.5599024,42.8553213
END:VEVENT
END:VCALENDAR