BEGIN:VCALENDAR
VERSION:2.0
PRODID:-//Brooks Memorial Library - Brattleboro VT - ECPv6.15.17.1//NONSGML v1.0//EN
CALSCALE:GREGORIAN
METHOD:PUBLISH
X-WR-CALNAME:Brooks Memorial Library - Brattleboro VT
X-ORIGINAL-URL:https://brookslibraryvt.org
X-WR-CALDESC:Events for Brooks Memorial Library - Brattleboro VT
REFRESH-INTERVAL;VALUE=DURATION:PT1H
X-Robots-Tag:noindex
X-PUBLISHED-TTL:PT1H
BEGIN:VTIMEZONE
TZID:America/New_York
BEGIN:DAYLIGHT
TZOFFSETFROM:-0500
TZOFFSETTO:-0400
TZNAME:EDT
DTSTART:20220313T070000
END:DAYLIGHT
BEGIN:STANDARD
TZOFFSETFROM:-0400
TZOFFSETTO:-0500
TZNAME:EST
DTSTART:20221106T060000
END:STANDARD
BEGIN:DAYLIGHT
TZOFFSETFROM:-0500
TZOFFSETTO:-0400
TZNAME:EDT
DTSTART:20230312T070000
END:DAYLIGHT
BEGIN:STANDARD
TZOFFSETFROM:-0400
TZOFFSETTO:-0500
TZNAME:EST
DTSTART:20231105T060000
END:STANDARD
BEGIN:DAYLIGHT
TZOFFSETFROM:-0500
TZOFFSETTO:-0400
TZNAME:EDT
DTSTART:20240310T070000
END:DAYLIGHT
BEGIN:STANDARD
TZOFFSETFROM:-0400
TZOFFSETTO:-0500
TZNAME:EST
DTSTART:20241103T060000
END:STANDARD
END:VTIMEZONE
BEGIN:VEVENT
DTSTART;TZID=America/New_York:20231028T150000
DTEND;TZID=America/New_York:20231028T163000
DTSTAMP:20260424T084825
CREATED:20230911T220746Z
LAST-MODIFIED:20231019T141816Z
UID:10001185-1698505200-1698510600@brookslibraryvt.org
SUMMARY:North Indian Classical Music
DESCRIPTION:North Indian classical music has been handed down from guru to disciple for hundreds of years through the guru-disciple relationship. Musicians Pat Lambdin and Amit Kavthekar embark on a journey into this living tradition that shifts perspectives with a fresh attitude and a willingness to place one’s own cultural understandings in the back seat. \nSponsored by Vermont Humanities
URL:https://brookslibraryvt.org/event/north-indian-classical-music/
LOCATION:Main Reading Room
CATEGORIES:Adults,General
ATTACH;FMTTYPE=image/jpeg:https://eadn-wc04-3360218.nxedge.io/wp-content/uploads/2023/09/Pat-Lambdin-headshot-300x300-1.jpg
GEO:42.8553213;-72.5599024
END:VEVENT
BEGIN:VEVENT
DTSTART;TZID=America/New_York:20231004T190000
DTEND;TZID=America/New_York:20231004T203000
DTSTAMP:20260424T084825
CREATED:20230910T180840Z
LAST-MODIFIED:20231004T155123Z
UID:10001183-1696446000-1696451400@brookslibraryvt.org
SUMMARY:The Joy of Lex with the Co-Host of “A Way with Words”
DESCRIPTION:Revel in surprising word histories\, regional dialects\, ancient linguistic roots\, and modern slang with Martha Barnette\, co-host of public radio’s popular “A Way with Words.” Barnette\, a writer in love with so-called dead languages\, co-hosts the radio show which The New Yorker called “Car Talk for Lexiphiles” with Grant Barrett\, a linguist and lexicographer. \nMartha Barnette is co-host of the public-radio show A Way with Words\, heard each week by listeners on National Public Radio affiliates across North America\, and worldwide by podcast. The show’s about words and how we use them — word and phrase origins\, slang\, regional dialects\, writing well\, books and reading\, and that weird thing Grandma used to say. \nRegister to attend this event \nYou can also watch the live stream here at 7:00 pm on Wednesday\, October 5: https://www.youtube.com/watch?v=4ou7Xu2drEk.  \nSponsored by Vermont Humanities and the Friends of Brooks Memorial Library
URL:https://brookslibraryvt.org/event/the-joy-of-lex-with-the-co-host-of-a-way-with-words/
LOCATION:Main Reading Room
CATEGORIES:Adults
ATTACH;FMTTYPE=image/jpeg:https://eadn-wc04-3360218.nxedge.io/wp-content/uploads/2023/09/MarthaBarnette-225x300-1-e1694368776817.jpg
GEO:42.8553213;-72.5599024
END:VEVENT
END:VCALENDAR