BEGIN:VCALENDAR
VERSION:2.0
PRODID:-//Brooks Memorial Library - Brattleboro VT - ECPv6.15.17.1//NONSGML v1.0//EN
CALSCALE:GREGORIAN
METHOD:PUBLISH
X-WR-CALNAME:Brooks Memorial Library - Brattleboro VT
X-ORIGINAL-URL:https://brookslibraryvt.org
X-WR-CALDESC:Events for Brooks Memorial Library - Brattleboro VT
REFRESH-INTERVAL;VALUE=DURATION:PT1H
X-Robots-Tag:noindex
X-PUBLISHED-TTL:PT1H
BEGIN:VTIMEZONE
TZID:America/New_York
BEGIN:DAYLIGHT
TZOFFSETFROM:-0500
TZOFFSETTO:-0400
TZNAME:EDT
DTSTART:20220313T070000
END:DAYLIGHT
BEGIN:STANDARD
TZOFFSETFROM:-0400
TZOFFSETTO:-0500
TZNAME:EST
DTSTART:20221106T060000
END:STANDARD
BEGIN:DAYLIGHT
TZOFFSETFROM:-0500
TZOFFSETTO:-0400
TZNAME:EDT
DTSTART:20230312T070000
END:DAYLIGHT
BEGIN:STANDARD
TZOFFSETFROM:-0400
TZOFFSETTO:-0500
TZNAME:EST
DTSTART:20231105T060000
END:STANDARD
BEGIN:DAYLIGHT
TZOFFSETFROM:-0500
TZOFFSETTO:-0400
TZNAME:EDT
DTSTART:20240310T070000
END:DAYLIGHT
BEGIN:STANDARD
TZOFFSETFROM:-0400
TZOFFSETTO:-0500
TZNAME:EST
DTSTART:20241103T060000
END:STANDARD
BEGIN:DAYLIGHT
TZOFFSETFROM:-0500
TZOFFSETTO:-0400
TZNAME:EDT
DTSTART:20250309T070000
END:DAYLIGHT
BEGIN:STANDARD
TZOFFSETFROM:-0400
TZOFFSETTO:-0500
TZNAME:EST
DTSTART:20251102T060000
END:STANDARD
BEGIN:DAYLIGHT
TZOFFSETFROM:-0500
TZOFFSETTO:-0400
TZNAME:EDT
DTSTART:20260308T070000
END:DAYLIGHT
BEGIN:STANDARD
TZOFFSETFROM:-0400
TZOFFSETTO:-0500
TZNAME:EST
DTSTART:20261101T060000
END:STANDARD
END:VTIMEZONE
BEGIN:VEVENT
DTSTART;TZID=America/New_York:20250117T130000
DTEND;TZID=America/New_York:20250117T150000
DTSTAMP:20260425T234736
CREATED:20241213T142639Z
LAST-MODIFIED:20241213T143000Z
UID:10003702-1737118800-1737126000@brookslibraryvt.org
SUMMARY:Windham County Local Work Group
DESCRIPTION:Local Workgroups are subcommittees of the State Technical Committee (STC) and provide recommendations to USDA on local and state natural resource priorities and criteria for conservation activities and programs. This process can be valuable to local and state leaders in the development of priorities\, programs and policies. The STC is an advisory group to the State Conservationist\, Travis Thomason (Vermont) The State Conservationist is the ultimate decision maker for the state’s USDA Natural Resource Conservation Service practices. Who makes up a Local Work Group? You!! Community Members: Agricultural Producers\, Land owners\, Land stewards\, Non-profits Local Partners : Municipalities\, Extension State Partners: Forest Service\, Wildlife Resource Commission\, Agency of Agriculture Food and Markets (VAAFM)\, Department of Environmental Conservation (DEC) Federal: Natural Resource Conservation Service (NRCS)\, Farm Service Agency (FSA)\,United States Forest Service (USFA)\, Army Corp of Engineers How do you join our Local Workgroup? Email Heather Blunk\, blunk.wcnrcd@gmail.com\, with a letter of interest and your qualifications (e.g you’re a local farmer\, you own a home in Windham County\, you are stewarding a forest!).
URL:https://brookslibraryvt.org/event/windham-county-local-work-group/
LOCATION:Meeting Room A – Community Meeting Room\, 224 Main Street\, Brattleboro\, VT\, 05301\, United States
CATEGORIES:General
ATTACH;FMTTYPE=image/jpeg:https://eadn-wc04-3360218.nxedge.io/wp-content/uploads/2024/12/wccd-logo-color.jpg
ORGANIZER;CN="Windham County Natural Resources Conservation District":MAILTO:windhamcountynrcd@gmail.com
GEO:42.8553213;-72.5599024
X-APPLE-STRUCTURED-LOCATION;VALUE=URI;X-ADDRESS=Meeting Room A – Community Meeting Room 224 Main Street Brattleboro VT 05301 United States;X-APPLE-RADIUS=500;X-TITLE=224 Main Street:geo:-72.5599024,42.8553213
END:VEVENT
BEGIN:VEVENT
DTSTART;TZID=America/New_York:20241015T163000
DTEND;TZID=America/New_York:20241015T180000
DTSTAMP:20260425T234736
CREATED:20240814T192743Z
LAST-MODIFIED:20240814T192743Z
UID:10002247-1729009800-1729015200@brookslibraryvt.org
SUMMARY:Basin 12 - Public Comment Session
DESCRIPTION:Join Windham NRCD and the Vermont Department of Environmental Conservation to learn about the tactical basin planning process for Basin 12. This meeting provides an opportunity for the public to comment on the proposed basin plan for protection and restoration of water quality in the basin. Basin 12 includes the Deerfield\, Green\, and North Rivers and Fall River\, and Whetstone\, Broad\, and Newton Brooks.
URL:https://brookslibraryvt.org/event/basin-12-public-comment-session/
LOCATION:Meeting Room A – Community Meeting Room\, 224 Main Street\, Brattleboro\, VT\, 05301\, United States
CATEGORIES:Adults
ATTACH;FMTTYPE=image/jpeg:https://eadn-wc04-3360218.nxedge.io/wp-content/uploads/2023/02/Windham-County-NRCD.jpg
ORGANIZER;CN="Windham County Natural Resources Conservation District":MAILTO:windhamcountynrcd@gmail.com
GEO:42.8553213;-72.5599024
X-APPLE-STRUCTURED-LOCATION;VALUE=URI;X-ADDRESS=Meeting Room A – Community Meeting Room 224 Main Street Brattleboro VT 05301 United States;X-APPLE-RADIUS=500;X-TITLE=224 Main Street:geo:-72.5599024,42.8553213
END:VEVENT
BEGIN:VEVENT
DTSTART;TZID=America/New_York:20231207T103000
DTEND;TZID=America/New_York:20231207T120000
DTSTAMP:20260425T234736
CREATED:20231102T003743Z
LAST-MODIFIED:20231102T003743Z
UID:10001237-1701945000-1701950400@brookslibraryvt.org
SUMMARY:Tactical Basin Planning Meeting for Basin 12
DESCRIPTION:We will be gathering farmers and foresters who are located within Basin 12 to provide input on what the upcoming Tactical Basin Plan should be composed of.
URL:https://brookslibraryvt.org/event/tactical-basin-planning-meeting-for-basin-12/
LOCATION:Meeting Room A – Community Meeting Room\, 224 Main Street\, Brattleboro\, VT\, 05301\, United States
CATEGORIES:Adults
ATTACH;FMTTYPE=image/png:https://eadn-wc04-3360218.nxedge.io/wp-content/uploads/2023/09/BML-Room-A-Smaller.png
ORGANIZER;CN="Windham County Natural Resources Conservation District":MAILTO:windhamcountynrcd@gmail.com
GEO:42.8553213;-72.5599024
X-APPLE-STRUCTURED-LOCATION;VALUE=URI;X-ADDRESS=Meeting Room A – Community Meeting Room 224 Main Street Brattleboro VT 05301 United States;X-APPLE-RADIUS=500;X-TITLE=224 Main Street:geo:-72.5599024,42.8553213
END:VEVENT
END:VCALENDAR