BEGIN:VCALENDAR
VERSION:2.0
PRODID:-//Brooks Memorial Library - Brattleboro VT - ECPv6.15.17.1//NONSGML v1.0//EN
CALSCALE:GREGORIAN
METHOD:PUBLISH
X-WR-CALNAME:Brooks Memorial Library - Brattleboro VT
X-ORIGINAL-URL:https://brookslibraryvt.org
X-WR-CALDESC:Events for Brooks Memorial Library - Brattleboro VT
REFRESH-INTERVAL;VALUE=DURATION:PT1H
X-Robots-Tag:noindex
X-PUBLISHED-TTL:PT1H
BEGIN:VTIMEZONE
TZID:America/New_York
BEGIN:DAYLIGHT
TZOFFSETFROM:-0500
TZOFFSETTO:-0400
TZNAME:EDT
DTSTART:20240310T070000
END:DAYLIGHT
BEGIN:STANDARD
TZOFFSETFROM:-0400
TZOFFSETTO:-0500
TZNAME:EST
DTSTART:20241103T060000
END:STANDARD
BEGIN:DAYLIGHT
TZOFFSETFROM:-0500
TZOFFSETTO:-0400
TZNAME:EDT
DTSTART:20250309T070000
END:DAYLIGHT
BEGIN:STANDARD
TZOFFSETFROM:-0400
TZOFFSETTO:-0500
TZNAME:EST
DTSTART:20251102T060000
END:STANDARD
BEGIN:DAYLIGHT
TZOFFSETFROM:-0500
TZOFFSETTO:-0400
TZNAME:EDT
DTSTART:20260308T070000
END:DAYLIGHT
BEGIN:STANDARD
TZOFFSETFROM:-0400
TZOFFSETTO:-0500
TZNAME:EST
DTSTART:20261101T060000
END:STANDARD
END:VTIMEZONE
BEGIN:VEVENT
DTSTART;TZID=America/New_York:20250715T180000
DTEND;TZID=America/New_York:20250715T200000
DTSTAMP:20260424T020943
CREATED:20250630T173518Z
LAST-MODIFIED:20250630T214517Z
UID:10004243-1752602400-1752609600@brookslibraryvt.org
SUMMARY:Brattleboro Housing Providers - Renter Feedback Session
DESCRIPTION:Brattleboro Renters! We want to hear from you. \nThis event is hosted by a collaborative group of non-profit and private Brattleboro Housing Providers and will be facilitated by Rachel Trill\, from Interaction. It is an opportunity to discuss some ideas that have the potential to improve resident and building safety\, the pros and cons of these ideas and the steps needed to implement them.  If you are a Brattleboro renter and are interested in this topic\, we want to hear from you. This event is open to the public with priority given to renters.  Brought to you by: \n\nBrattleboro Housing Partnership\nHousing Providers Alliance of Southern Vermont\nM&S Development\nWindham & Windsor Housing Trust
URL:https://brookslibraryvt.org/event/brattleboro-housing-providers-renter-feedback-session/
LOCATION:Meeting Room A – Community Meeting Room\, 224 Main Street\, Brattleboro\, VT\, 05301\, United States
CATEGORIES:Adults,General
ATTACH;FMTTYPE=image/jpeg:https://eadn-wc04-3360218.nxedge.io/wp-content/uploads/2025/06/lease-renting-contract-residential-tenant-concept-scaled.jpg
ORGANIZER;CN="Windham & Windsor Housing Trust":MAILTO:ebridgewater@homemattershere.org
GEO:42.8553213;-72.5599024
X-APPLE-STRUCTURED-LOCATION;VALUE=URI;X-ADDRESS=Meeting Room A – Community Meeting Room 224 Main Street Brattleboro VT 05301 United States;X-APPLE-RADIUS=500;X-TITLE=224 Main Street:geo:-72.5599024,42.8553213
END:VEVENT
END:VCALENDAR