BEGIN:VCALENDAR
VERSION:2.0
PRODID:-//Brooks Memorial Library - Brattleboro VT - ECPv6.15.17.1//NONSGML v1.0//EN
CALSCALE:GREGORIAN
METHOD:PUBLISH
X-WR-CALNAME:Brooks Memorial Library - Brattleboro VT
X-ORIGINAL-URL:https://brookslibraryvt.org
X-WR-CALDESC:Events for Brooks Memorial Library - Brattleboro VT
REFRESH-INTERVAL;VALUE=DURATION:PT1H
X-Robots-Tag:noindex
X-PUBLISHED-TTL:PT1H
BEGIN:VTIMEZONE
TZID:America/New_York
BEGIN:DAYLIGHT
TZOFFSETFROM:-0500
TZOFFSETTO:-0400
TZNAME:EDT
DTSTART:20240310T070000
END:DAYLIGHT
BEGIN:STANDARD
TZOFFSETFROM:-0400
TZOFFSETTO:-0500
TZNAME:EST
DTSTART:20241103T060000
END:STANDARD
BEGIN:DAYLIGHT
TZOFFSETFROM:-0500
TZOFFSETTO:-0400
TZNAME:EDT
DTSTART:20250309T070000
END:DAYLIGHT
BEGIN:STANDARD
TZOFFSETFROM:-0400
TZOFFSETTO:-0500
TZNAME:EST
DTSTART:20251102T060000
END:STANDARD
BEGIN:DAYLIGHT
TZOFFSETFROM:-0500
TZOFFSETTO:-0400
TZNAME:EDT
DTSTART:20260308T070000
END:DAYLIGHT
BEGIN:STANDARD
TZOFFSETFROM:-0400
TZOFFSETTO:-0500
TZNAME:EST
DTSTART:20261101T060000
END:STANDARD
END:VTIMEZONE
BEGIN:VEVENT
DTSTART;TZID=America/New_York:20250515T183000
DTEND;TZID=America/New_York:20250515T200000
DTSTAMP:20260424T065817
CREATED:20250421T212211Z
LAST-MODIFIED:20250509T175707Z
UID:10004198-1747333800-1747339200@brookslibraryvt.org
SUMMARY:From Overthrow to Blowback: How U.S. led Regime Change Has Historically Sown the Seeds of Instability and Backlash
DESCRIPTION:“Global Blowback: Understanding the Long Tail of U.S. Intervention and Regime Change.”  Happening at 118 Gallery\, Elliot Street\, Brattleboro. \nAs part of the America 250 series\, Windham World Affairs Council in collaboration with Brooks Memorial Library\, Vermont Independent Media and the Vermont Humanities  is creating a two-year series around the theme of  global blowback. \nThe first speaker in the series will be esteemed author and journalist – Stephen Kinzer. \nKinzer is an award-winning foreign correspondent who has covered more than 50 countries on five continents. His articles and books have led the Washington Post to place him “among the best in popular foreign policy storytelling.” \nKinzer spent more than 20 years working for the New York Times\, most of it as a foreign correspondent. His foreign postings placed him at the center of historic events and\, at times\, in the line of fire. \nThis event is happening at 118 Elliot Gallery. There is a $10 suggested donation.  No one\, however\, will be turned away for lack of funds. \nRegistration link: https://www.eventbrite.com/e/global-blowback-the-long-tail-of-us-intervention-and-regime-change-tickets-1305915230609?aff=oddtdtcreator \n  \nMore about the Global Blowback series: \n“Why do they hate us?” That’s the question that many US citizens express in response to political and terrorist attacks on the U.S. Many students and citizens do not understand the ways that U.S. foreign policy\, particular during periods of aggressive military intervention and regime change\, have sowed long seeds of instability\, authoritarianism\, migration\, and resentment.  While we in the US have a short-term historical memory or lack knowledge of historic interventions\, the rest of the world has a long memory for 20th century U.S. intervention and regime change. \nCentral to deepening a global understanding of these events is the concept of “blowback.” The US intelligence community defines blowback as the “unintended consequences resulting from covert or direct action.” In his 2000 book\, Blowback: The Costs and Consequences of American Empire\, the late Chalmers Johnson\, who was a eminent scholar of Asia\, former CIA consultant and self-described “cold warrior\,” described the blowback concept: \nOfficials of the Central Intelligence Agency first invented [the term blowback] for their own internal use… [It] refers to the unintended consequences of policies that were kept secret from the American people. What the daily press reports as the malign acts of ‘terrorists’ or ‘drug lords’ or ‘rogue states’ or ‘illegal arms merchants’ often turn out to be blowback from earlier American operations.” \nFor example\, the US covertly aided in the overthrow of a democratically-elected government in Iran in 1953\, which led to the 1979 Iranian revolution and taking of the U.S. embassy and hostages –and two generations of instability. \nOver the next two years\, WWAC will host conversations around significant anniversaries of U.S. intervention and examples of long-term consequences or “blowback.”  We propose a series of educational events\, some tied to these anniversaries (but not rigidly). \n 
URL:https://brookslibraryvt.org/event/from-overthrow-to-blowback-how-u-s-led-regime-change-has-historically-sown-the-seeds-of-instability-and-backlash/
LOCATION:118 Elliot\, 118 Elliot Street\, Brattleboro\, 05301\, United States
CATEGORIES:General
ATTACH;FMTTYPE=image/png:https://eadn-wc04-3360218.nxedge.io/wp-content/uploads/2025/04/Screenshot-2025-04-21-163211.png
GEO:42.8513007;-72.5607111
X-APPLE-STRUCTURED-LOCATION;VALUE=URI;X-ADDRESS=118 Elliot 118 Elliot Street Brattleboro 05301 United States;X-APPLE-RADIUS=500;X-TITLE=118 Elliot Street:geo:-72.5607111,42.8513007
END:VEVENT
END:VCALENDAR