BEGIN:VCALENDAR
VERSION:2.0
PRODID:-//Brooks Memorial Library - Brattleboro VT - ECPv6.15.17.1//NONSGML v1.0//EN
CALSCALE:GREGORIAN
METHOD:PUBLISH
X-ORIGINAL-URL:https://brookslibraryvt.org
X-WR-CALDESC:Events for Brooks Memorial Library - Brattleboro VT
REFRESH-INTERVAL;VALUE=DURATION:PT1H
X-Robots-Tag:noindex
X-PUBLISHED-TTL:PT1H
BEGIN:VTIMEZONE
TZID:America/New_York
BEGIN:DAYLIGHT
TZOFFSETFROM:-0500
TZOFFSETTO:-0400
TZNAME:EDT
DTSTART:20200308T070000
END:DAYLIGHT
BEGIN:STANDARD
TZOFFSETFROM:-0400
TZOFFSETTO:-0500
TZNAME:EST
DTSTART:20201101T060000
END:STANDARD
BEGIN:DAYLIGHT
TZOFFSETFROM:-0500
TZOFFSETTO:-0400
TZNAME:EDT
DTSTART:20210314T070000
END:DAYLIGHT
BEGIN:STANDARD
TZOFFSETFROM:-0400
TZOFFSETTO:-0500
TZNAME:EST
DTSTART:20211107T060000
END:STANDARD
BEGIN:DAYLIGHT
TZOFFSETFROM:-0500
TZOFFSETTO:-0400
TZNAME:EDT
DTSTART:20220313T070000
END:DAYLIGHT
BEGIN:STANDARD
TZOFFSETFROM:-0400
TZOFFSETTO:-0500
TZNAME:EST
DTSTART:20221106T060000
END:STANDARD
END:VTIMEZONE
BEGIN:VEVENT
DTSTART;TZID=America/New_York:20210819T160000
DTEND;TZID=America/New_York:20210819T180000
DTSTAMP:20260425T093513
CREATED:20210810T183908Z
LAST-MODIFIED:20210818T222124Z
UID:10000171-1629388800-1629396000@brookslibraryvt.org
SUMMARY:RESCHEDULED FOR 09/02: Friends of the Library Ice Cream Social
DESCRIPTION:RESCHEDULED DUE TO RAIN: \nThe Friends of the Brooks Memorial Library invite you to an old-fashioned ice cream social with a whimsical twist.\nOn Thursday\, September 2nd from 4-6 PM the Friends will be hosting an ice cream social at the Kiwanis shelter at the top of Living Memorial Park. Circus Minimus will be on hand with an array of outdoor toys and games.\nSuggested donation is $4 a cone.
URL:https://brookslibraryvt.org/event/friends-of-the-library-ice-cream-social/
LOCATION:Living Memorial Park\, 61 Guilford St.\, Brattleboro\, VT\, 05301\, United States
CATEGORIES:Children & Families,General,Teens
ATTACH;FMTTYPE=image/webp:https://eadn-wc04-3360218.nxedge.io/wp-content/uploads/2021/08/Ice-Cream-Party.webp
GEO:42.8482744;-72.5848156
X-APPLE-STRUCTURED-LOCATION;VALUE=URI;X-ADDRESS=Living Memorial Park 61 Guilford St. Brattleboro VT 05301 United States;X-APPLE-RADIUS=500;X-TITLE=61 Guilford St.:geo:-72.5848156,42.8482744
END:VEVENT
END:VCALENDAR