BEGIN:VCALENDAR
VERSION:2.0
PRODID:-//Brooks Memorial Library - Brattleboro VT - ECPv6.15.17.1//NONSGML v1.0//EN
CALSCALE:GREGORIAN
METHOD:PUBLISH
X-WR-CALNAME:Brooks Memorial Library - Brattleboro VT
X-ORIGINAL-URL:https://brookslibraryvt.org
X-WR-CALDESC:Events for Brooks Memorial Library - Brattleboro VT
REFRESH-INTERVAL;VALUE=DURATION:PT1H
X-Robots-Tag:noindex
X-PUBLISHED-TTL:PT1H
BEGIN:VTIMEZONE
TZID:America/New_York
BEGIN:DAYLIGHT
TZOFFSETFROM:-0500
TZOFFSETTO:-0400
TZNAME:EDT
DTSTART:20200308T070000
END:DAYLIGHT
BEGIN:STANDARD
TZOFFSETFROM:-0400
TZOFFSETTO:-0500
TZNAME:EST
DTSTART:20201101T060000
END:STANDARD
BEGIN:DAYLIGHT
TZOFFSETFROM:-0500
TZOFFSETTO:-0400
TZNAME:EDT
DTSTART:20210314T070000
END:DAYLIGHT
BEGIN:STANDARD
TZOFFSETFROM:-0400
TZOFFSETTO:-0500
TZNAME:EST
DTSTART:20211107T060000
END:STANDARD
BEGIN:DAYLIGHT
TZOFFSETFROM:-0500
TZOFFSETTO:-0400
TZNAME:EDT
DTSTART:20220313T070000
END:DAYLIGHT
BEGIN:STANDARD
TZOFFSETFROM:-0400
TZOFFSETTO:-0500
TZNAME:EST
DTSTART:20221106T060000
END:STANDARD
BEGIN:DAYLIGHT
TZOFFSETFROM:-0500
TZOFFSETTO:-0400
TZNAME:EDT
DTSTART:20230312T070000
END:DAYLIGHT
BEGIN:STANDARD
TZOFFSETFROM:-0400
TZOFFSETTO:-0500
TZNAME:EST
DTSTART:20231105T060000
END:STANDARD
BEGIN:DAYLIGHT
TZOFFSETFROM:-0500
TZOFFSETTO:-0400
TZNAME:EDT
DTSTART:20240310T070000
END:DAYLIGHT
BEGIN:STANDARD
TZOFFSETFROM:-0400
TZOFFSETTO:-0500
TZNAME:EST
DTSTART:20241103T060000
END:STANDARD
BEGIN:DAYLIGHT
TZOFFSETFROM:-0500
TZOFFSETTO:-0400
TZNAME:EDT
DTSTART:20250309T070000
END:DAYLIGHT
BEGIN:STANDARD
TZOFFSETFROM:-0400
TZOFFSETTO:-0500
TZNAME:EST
DTSTART:20251102T060000
END:STANDARD
END:VTIMEZONE
BEGIN:VEVENT
DTSTART;TZID=America/New_York:20241220T160000
DTEND;TZID=America/New_York:20241220T173000
DTSTAMP:20260424T060651
CREATED:20241209T181347Z
LAST-MODIFIED:20241209T181347Z
UID:10003564-1734710400-1734715800@brookslibraryvt.org
SUMMARY:Teen Writing Games
DESCRIPTION:Attention aspiring teen authors of Brattleboro!\nThe Teen Advisory Board invites you to a free writing event at the Brooks Memorial Library. Join us for an afternoon of creating black-out poetry\, exquisite corpse stories\, and other fun writing games! \nThis event is located in the Teen Room\, on the 2nd Floor and runs from 4pm to 5:30pm. Snacks provided. \nHosted by the Teen Advisory Board. “Teens Only” events are open to people in grades 7-12.
URL:https://brookslibraryvt.org/event/teen-writing-games-3/
LOCATION:Spicy Lime Room\, 224 Main Street\, Brattleboro\, VT\, 05301\, United States
CATEGORIES:Teens
ATTACH;FMTTYPE=image/png:https://eadn-wc04-3360218.nxedge.io/wp-content/uploads/2021/02/Writing-Workshop.png
ORGANIZER;CN="Teen Advisory Board":MAILTO:teens@brookslibraryvt.org
GEO:42.8553213;-72.5599024
X-APPLE-STRUCTURED-LOCATION;VALUE=URI;X-ADDRESS=Spicy Lime Room 224 Main Street Brattleboro VT 05301 United States;X-APPLE-RADIUS=500;X-TITLE=224 Main Street:geo:-72.5599024,42.8553213
END:VEVENT
BEGIN:VEVENT
DTSTART;TZID=America/New_York:20231116T180000
DTEND;TZID=America/New_York:20231116T200000
DTSTAMP:20260424T060651
CREATED:20231115T214429Z
LAST-MODIFIED:20231115T214429Z
UID:10001263-1700157600-1700164800@brookslibraryvt.org
SUMMARY:Teen Zine-Making Workshop
DESCRIPTION:Ever wanted to make a zine? Local teen Blue Berenguel will teach us how to make them easy\, affordable\, and quick to reproduce! \nAll materials will be provided\, but participants are welcome to bring additional supplies. \n\nHosted by the Teen Advisory Board.\n“Teens Only” events are open to people in grades 7-12.\n 
URL:https://brookslibraryvt.org/event/teen-zine-making-workshop-2/
LOCATION:Spicy Lime Room\, 224 Main Street\, Brattleboro\, VT\, 05301\, United States
CATEGORIES:Teens
ATTACH;FMTTYPE=image/png:https://eadn-wc04-3360218.nxedge.io/wp-content/uploads/2022/06/ZineSlide-1.png
ORGANIZER;CN="Teen Advisory Board":MAILTO:teens@brookslibraryvt.org
GEO:42.8553213;-72.5599024
X-APPLE-STRUCTURED-LOCATION;VALUE=URI;X-ADDRESS=Spicy Lime Room 224 Main Street Brattleboro VT 05301 United States;X-APPLE-RADIUS=500;X-TITLE=224 Main Street:geo:-72.5599024,42.8553213
END:VEVENT
BEGIN:VEVENT
DTSTART;TZID=America/New_York:20231012T190000
DTEND;TZID=America/New_York:20231012T210000
DTSTAMP:20260424T060651
CREATED:20231005T191223Z
LAST-MODIFIED:20231005T191224Z
UID:10001207-1697137200-1697144400@brookslibraryvt.org
SUMMARY:Teen Writing Games
DESCRIPTION:Hello teens of Brattleboro! Are you someone who is interested in writing and/or games? \nThe Teen Library Board hosts a free writing based event at the Brooks Memorial Library. This event is located in the Teen Room of the library\, on the 2nd Floor. It runs from 7 to 9pm. We’ll be making black-out poetry\, rolling story-cubes\, playing exquisite corpse\, and other fun\, writing-related games.  Feel free to reach out to us at teens@brookslibraryvt.org if you have any questions. \nPizza and snacks provided. Masks are not required\, but we have them if you want them. \nHosted by the Teen Advisory Board. “Teens Only” events are open to people in grades 7-12.
URL:https://brookslibraryvt.org/event/teen-writing-games-2/
LOCATION:Spicy Lime Room\, 224 Main Street\, Brattleboro\, VT\, 05301\, United States
CATEGORIES:Teens
ATTACH;FMTTYPE=image/png:https://eadn-wc04-3360218.nxedge.io/wp-content/uploads/2021/02/Writing-Workshop.png
ORGANIZER;CN="Teen Advisory Board":MAILTO:teens@brookslibraryvt.org
GEO:42.8553213;-72.5599024
X-APPLE-STRUCTURED-LOCATION;VALUE=URI;X-ADDRESS=Spicy Lime Room 224 Main Street Brattleboro VT 05301 United States;X-APPLE-RADIUS=500;X-TITLE=224 Main Street:geo:-72.5599024,42.8553213
END:VEVENT
BEGIN:VEVENT
DTSTART;TZID=America/New_York:20230705T173000
DTEND;TZID=America/New_York:20230705T190000
DTSTAMP:20260424T060651
CREATED:20230622T000910Z
LAST-MODIFIED:20230622T001113Z
UID:10001034-1688578200-1688583600@brookslibraryvt.org
SUMMARY:Teen Zine-Making Workshop
DESCRIPTION:Ever wanted to make a zine? Local teen Anna Cummings will teach us how to make them easy\, affordable\, and quick to reproduce! \nAll materials will be provided\, but participants are welcome to bring additional supplies. \n\nHosted by the Teen Advisory Board.\n“Teens Only” events are open to people in grades 7-12.\n 
URL:https://brookslibraryvt.org/event/zine-making-workshop-2/
LOCATION:Spicy Lime Room\, 224 Main Street\, Brattleboro\, VT\, 05301\, United States
CATEGORIES:Teens
ATTACH;FMTTYPE=image/png:https://eadn-wc04-3360218.nxedge.io/wp-content/uploads/2022/06/ZineSlide-1.png
ORGANIZER;CN="Teen Advisory Board":MAILTO:teens@brookslibraryvt.org
GEO:42.8553213;-72.5599024
X-APPLE-STRUCTURED-LOCATION;VALUE=URI;X-ADDRESS=Spicy Lime Room 224 Main Street Brattleboro VT 05301 United States;X-APPLE-RADIUS=500;X-TITLE=224 Main Street:geo:-72.5599024,42.8553213
END:VEVENT
BEGIN:VEVENT
DTSTART;TZID=America/New_York:20230601T190000
DTEND;TZID=America/New_York:20230601T210000
DTSTAMP:20260424T060651
CREATED:20220912T180956Z
LAST-MODIFIED:20230531T153754Z
UID:10000520-1685646000-1685653200@brookslibraryvt.org
SUMMARY:CANCELLED: Teen Writing Games
DESCRIPTION:Cancelled due to high school event scheduling. Will be restarted in September! \n\nHello teens of Brattleboro! Are you someone who is interested in writing and/or games? \nThe Teen Library Board hosts a free writing based event at the Brooks Memorial Library. This event is located in the Teen Room of the library\, on the 2nd Floor. It runs from 7 to 9pm. We’ll be making black-out poetry\, rolling story-cubes\, playing exquisite corpse\, and other fun\, writing-related games.  Feel free to reach out to us at either 1cummia@wsesdvt.org or teens@brookslibraryvt.org if you have any questions. \nPizza and snacks provided. Masks are not required\, but we have them if you want them. \nHosted by the Teen Advisory Board. “Teens Only” events are open to people in grades 7-12.
URL:https://brookslibraryvt.org/event/teen-writing-games-2023-06-01/
LOCATION:Spicy Lime Room\, 224 Main Street\, Brattleboro\, VT\, 05301\, United States
CATEGORIES:Teens
ATTACH;FMTTYPE=image/png:https://eadn-wc04-3360218.nxedge.io/wp-content/uploads/2021/02/Writing-Workshop.png
ORGANIZER;CN="Teen Advisory Board":MAILTO:teens@brookslibraryvt.org
GEO:42.8553213;-72.5599024
X-APPLE-STRUCTURED-LOCATION;VALUE=URI;X-ADDRESS=Spicy Lime Room 224 Main Street Brattleboro VT 05301 United States;X-APPLE-RADIUS=500;X-TITLE=224 Main Street:geo:-72.5599024,42.8553213
END:VEVENT
BEGIN:VEVENT
DTSTART;TZID=America/New_York:20230525T190000
DTEND;TZID=America/New_York:20230525T210000
DTSTAMP:20260424T060651
CREATED:20220912T180956Z
LAST-MODIFIED:20230524T212050Z
UID:10000519-1685041200-1685048400@brookslibraryvt.org
SUMMARY:POSTPONED: Teen Writing Games
DESCRIPTION:This month’s Writing Games event has been postponed due to scheduling conflicts! Please join us instead on Thursday June 1st from 7-9pm \n\nHello teens of Brattleboro! Are you someone who is interested in writing and/or games? \nThe Teen Library Board hosts a free writing based event at the Brooks Memorial Library. This event is located in the Teen Room of the library\, on the 2nd Floor. It runs from 7 to 9pm. We’ll be making black-out poetry\, rolling story-cubes\, playing exquisite corpse\, and other fun\, writing-related games.  Feel free to reach out to us at either 1cummia@wsesdvt.org or teens@brookslibraryvt.org if you have any questions. \nPizza and snacks provided. Masks are not required\, but we have them if you want them. \nHosted by the Teen Advisory Board. “Teens Only” events are open to people in grades 7-12.
URL:https://brookslibraryvt.org/event/teen-writing-games-2023-05-25/
LOCATION:Spicy Lime Room\, 224 Main Street\, Brattleboro\, VT\, 05301\, United States
CATEGORIES:Teens
ATTACH;FMTTYPE=image/png:https://eadn-wc04-3360218.nxedge.io/wp-content/uploads/2021/02/Writing-Workshop.png
ORGANIZER;CN="Teen Advisory Board":MAILTO:teens@brookslibraryvt.org
GEO:42.8553213;-72.5599024
X-APPLE-STRUCTURED-LOCATION;VALUE=URI;X-ADDRESS=Spicy Lime Room 224 Main Street Brattleboro VT 05301 United States;X-APPLE-RADIUS=500;X-TITLE=224 Main Street:geo:-72.5599024,42.8553213
END:VEVENT
BEGIN:VEVENT
DTSTART;TZID=America/New_York:20230126T190000
DTEND;TZID=America/New_York:20230126T210000
DTSTAMP:20260424T060651
CREATED:20220912T180956Z
LAST-MODIFIED:20230524T214842Z
UID:10000517-1674759600-1674766800@brookslibraryvt.org
SUMMARY:Teen Writing Games
DESCRIPTION:Hello teens of Brattleboro! Are you someone who is interested in writing and/or games? \nThe Teen Library Board hosts a free writing based event at the Brooks Memorial Library. This event is located in the Teen Room of the library\, on the 2nd Floor. It runs from 7 to 9pm. We’ll be making black-out poetry\, rolling story-cubes\, playing exquisite corpse\, and other fun\, writing-related games.  Feel free to reach out to us at either 1cummia@wsesdvt.org or teens@brookslibraryvt.org if you have any questions. \nPizza and snacks provided. Masks are not required\, but we have them if you want them. \nHosted by the Teen Advisory Board. “Teens Only” events are open to people in grades 7-12.
URL:https://brookslibraryvt.org/event/teen-writing-games/2023-01-26/
LOCATION:Spicy Lime Room\, 224 Main Street\, Brattleboro\, VT\, 05301\, United States
CATEGORIES:Teens
ATTACH;FMTTYPE=image/png:https://eadn-wc04-3360218.nxedge.io/wp-content/uploads/2021/02/Writing-Workshop.png
ORGANIZER;CN="Teen Advisory Board":MAILTO:teens@brookslibraryvt.org
GEO:42.8553213;-72.5599024
X-APPLE-STRUCTURED-LOCATION;VALUE=URI;X-ADDRESS=Spicy Lime Room 224 Main Street Brattleboro VT 05301 United States;X-APPLE-RADIUS=500;X-TITLE=224 Main Street:geo:-72.5599024,42.8553213
END:VEVENT
BEGIN:VEVENT
DTSTART;TZID=America/New_York:20221201T190000
DTEND;TZID=America/New_York:20221201T210000
DTSTAMP:20260424T060651
CREATED:20220912T180956Z
LAST-MODIFIED:20221130T180858Z
UID:10000518-1669921200-1669928400@brookslibraryvt.org
SUMMARY:CANCELLED: Teen Writing Games
DESCRIPTION:This month’s Teen Writing Games has been CANCELLED. Sorry! \n 
URL:https://brookslibraryvt.org/event/teen-writing-games-2022-12-01/
LOCATION:Spicy Lime Room\, 224 Main Street\, Brattleboro\, VT\, 05301\, United States
CATEGORIES:Teens
ATTACH;FMTTYPE=image/png:https://eadn-wc04-3360218.nxedge.io/wp-content/uploads/2021/02/Writing-Workshop.png
ORGANIZER;CN="Teen Advisory Board":MAILTO:teens@brookslibraryvt.org
GEO:42.8553213;-72.5599024
X-APPLE-STRUCTURED-LOCATION;VALUE=URI;X-ADDRESS=Spicy Lime Room 224 Main Street Brattleboro VT 05301 United States;X-APPLE-RADIUS=500;X-TITLE=224 Main Street:geo:-72.5599024,42.8553213
END:VEVENT
BEGIN:VEVENT
DTSTART;TZID=America/New_York:20220712T163000
DTEND;TZID=America/New_York:20220712T180000
DTSTAMP:20260424T060651
CREATED:20220630T212755Z
LAST-MODIFIED:20220630T222556Z
UID:10000359-1657643400-1657648800@brookslibraryvt.org
SUMMARY:'Zine-Making Workshop
DESCRIPTION:Ever wanted to make a ‘zine? Local teen Anna Cummings will teach us how to make them easy\, affordable\, and quick to reproduce! \nAll materials will be provided\, but participants are welcome to bring additional supplies. \n\nHosted by the Teen Advisory Board.\n“Teens Only” events are open to people in grades 7-12.\n 
URL:https://brookslibraryvt.org/event/zine-making-workshop/
LOCATION:Spicy Lime Room\, 224 Main Street\, Brattleboro\, VT\, 05301\, United States
CATEGORIES:Teens
ATTACH;FMTTYPE=image/png:https://eadn-wc04-3360218.nxedge.io/wp-content/uploads/2022/06/ZineSlide-1.png
ORGANIZER;CN="Teen Advisory Board":MAILTO:teens@brookslibraryvt.org
GEO:42.8553213;-72.5599024
X-APPLE-STRUCTURED-LOCATION;VALUE=URI;X-ADDRESS=Spicy Lime Room 224 Main Street Brattleboro VT 05301 United States;X-APPLE-RADIUS=500;X-TITLE=224 Main Street:geo:-72.5599024,42.8553213
END:VEVENT
BEGIN:VEVENT
DTSTART;TZID=America/New_York:20220505T190000
DTEND;TZID=America/New_York:20220505T210000
DTSTAMP:20260424T060651
CREATED:20220429T174230Z
LAST-MODIFIED:20220429T174230Z
UID:10000095-1651777200-1651784400@brookslibraryvt.org
SUMMARY:Teen Writing Workshop
DESCRIPTION:The Teen Advisory Board invites you to join us on Thursday May 5th from 7-9pm for a (in person!) writing workshop. Teen Writing Workshops will occur month on First Thursdays. We’ll conduct a rotating selection of writing games and exercises (both collaborative and solo). Sharing is encouraged but not mandatory. Beginners welcome! \nPizza and snacks provided. \nHosted by the Teen Advisory Board. “Teens Only” events are open to people in grades 7-12.
URL:https://brookslibraryvt.org/event/teen-writing-workshop-6/
LOCATION:Spicy Lime Room\, 224 Main Street\, Brattleboro\, VT\, 05301\, United States
CATEGORIES:Teens
ATTACH;FMTTYPE=image/png:https://eadn-wc04-3360218.nxedge.io/wp-content/uploads/2021/02/Writing-Workshop.png
ORGANIZER;CN="Teen Advisory Board":MAILTO:teens@brookslibraryvt.org
GEO:42.8553213;-72.5599024
X-APPLE-STRUCTURED-LOCATION;VALUE=URI;X-ADDRESS=Spicy Lime Room 224 Main Street Brattleboro VT 05301 United States;X-APPLE-RADIUS=500;X-TITLE=224 Main Street:geo:-72.5599024,42.8553213
END:VEVENT
BEGIN:VEVENT
DTSTART;TZID=America/New_York:20220407T183000
DTEND;TZID=America/New_York:20220407T203000
DTSTAMP:20260424T060651
CREATED:20220325T191815Z
LAST-MODIFIED:20220325T204602Z
UID:10000284-1649356200-1649363400@brookslibraryvt.org
SUMMARY:Teen Writing Workshop
DESCRIPTION:The Teen Advisory Board invites you to join us on Thursday April 7th from 6:30-8:30pm for a (in person!) writing workshop. Teen Writing Workshops will occur month on First Thursdays. We’ll conduct a rotating selection of writing games and exercises (both collaborative and solo). Sharing is encouraged but not mandatory. Beginners welcome! \nPizza and snacks provided. \nHosted by the Teen Advisory Board. “Teens Only” events are open to people in grades 7-12.
URL:https://brookslibraryvt.org/event/teen-writing-workshop-5/
LOCATION:Spicy Lime Room\, 224 Main Street\, Brattleboro\, VT\, 05301\, United States
CATEGORIES:Teens
ATTACH;FMTTYPE=image/png:https://eadn-wc04-3360218.nxedge.io/wp-content/uploads/2021/02/Writing-Workshop.png
ORGANIZER;CN="Teen Advisory Board":MAILTO:teens@brookslibraryvt.org
GEO:42.8553213;-72.5599024
X-APPLE-STRUCTURED-LOCATION;VALUE=URI;X-ADDRESS=Spicy Lime Room 224 Main Street Brattleboro VT 05301 United States;X-APPLE-RADIUS=500;X-TITLE=224 Main Street:geo:-72.5599024,42.8553213
END:VEVENT
BEGIN:VEVENT
DTSTART;TZID=America/New_York:20211202T183000
DTEND;TZID=America/New_York:20211202T203000
DTSTAMP:20260424T060651
CREATED:20211118T211222Z
LAST-MODIFIED:20211118T211222Z
UID:10000060-1638469800-1638477000@brookslibraryvt.org
SUMMARY:Teen Writing Workshop
DESCRIPTION:The Teen Advisory Board invites you to join us on Thursday December 2nd from 6:30-8:30pm for a (in person! masked!) writing workshop. Teen Writing Workshops will occur every other month (for the time being). We’ll conduct a rotating selection of writing games and exercises (both collaborative and solo). Sharing is encouraged but not mandatory. Beginners welcome! \nKeep an eye on the Teen page or the Events page for future events. \nHosted by the Teen Advisory Board. “Teens Only” events are open to people in grades 7-12.
URL:https://brookslibraryvt.org/event/teen-writing-workshop-3/
LOCATION:Spicy Lime Room\, 224 Main Street\, Brattleboro\, VT\, 05301\, United States
CATEGORIES:Teens
ATTACH;FMTTYPE=image/png:https://eadn-wc04-3360218.nxedge.io/wp-content/uploads/2021/02/Writing-Workshop.png
ORGANIZER;CN="Teen Advisory Board":MAILTO:teens@brookslibraryvt.org
GEO:42.8553213;-72.5599024
X-APPLE-STRUCTURED-LOCATION;VALUE=URI;X-ADDRESS=Spicy Lime Room 224 Main Street Brattleboro VT 05301 United States;X-APPLE-RADIUS=500;X-TITLE=224 Main Street:geo:-72.5599024,42.8553213
END:VEVENT
BEGIN:VEVENT
DTSTART;TZID=America/New_York:20211007T183000
DTEND;TZID=America/New_York:20211007T203000
DTSTAMP:20260424T060651
CREATED:20211001T202934Z
LAST-MODIFIED:20220325T195711Z
UID:10000209-1633631400-1633638600@brookslibraryvt.org
SUMMARY:Teen Writing Workshop Returns!
DESCRIPTION:The Teen Advisory Board invites you to join us on Thursday October 7th from 6:30-8:30pm for a (in person!) writing workshop. Teen Writing Workshops will occur every other month (for the time being). We’ll conduct a rotating selection of writing games and exercises (both collaborative and solo). Sharing is encouraged but not mandatory. Beginners welcome! \nKeep an eye on the Teen page or the Events page for future events. \nHosted by the Teen Advisory Board. “Teens Only” events are open to people in grades 7-12.
URL:https://brookslibraryvt.org/event/teen-writing-workshop-2/
LOCATION:Spicy Lime Room\, 224 Main Street\, Brattleboro\, VT\, 05301\, United States
CATEGORIES:Teens
ATTACH;FMTTYPE=image/png:https://eadn-wc04-3360218.nxedge.io/wp-content/uploads/2021/02/Writing-Workshop.png
ORGANIZER;CN="Teen Advisory Board":MAILTO:teens@brookslibraryvt.org
GEO:42.8553213;-72.5599024
X-APPLE-STRUCTURED-LOCATION;VALUE=URI;X-ADDRESS=Spicy Lime Room 224 Main Street Brattleboro VT 05301 United States;X-APPLE-RADIUS=500;X-TITLE=224 Main Street:geo:-72.5599024,42.8553213
END:VEVENT
END:VCALENDAR